Workbook

Sheet 分析ダッシュボード
A1: 予算実績管理｜経営ダッシュボード
A3: 対象部門 | E3: 実績確定月（1〜9） | H3: 見通し倍率
B4: 全部門 | F4: 9 | I4: 1
A5: 黄色セルを変更すると、部門別実績・年間見通し・グラフが切り替わります（単位：万円）
A7: 売上高｜累計予算 | D7: 売上高｜累計実績 | G7: 営業利益｜累計差異 | J7: 年間営業利益見通し
A8: =SUMIF(月次集計!$A$2:$A$13,"<="&$F$4,月次集計!$B$2:$B$13) -> 32786.3 | D8: =SUMIF(月次集計!$A$2:$A$13,"<="&$F$4,月次集計!$C$2:$C$13) -> 33001.3 | G8: =SUMIF(月次集計!$A$2:$A$13,"<="&$F$4,月次集計!$I$2:$I$13)-SUMIF(月次集計!$A$2:$A$13,"<="&$F$4,月次集計!$H$2:$H$13) -> 152 | J8: =SUM(月次集計!$J$2:$J$13) -> 9243.3
A12: 月別推移｜売上高と営業利益（予算・実績・着地見通し）
A34: 年間予算営業利益 | D34: 年間見通し差異 | G34: 累計営業利益率
A35: =SUM(月次集計!H2:H13) -> 9091.3 | D35: =J8-A35 -> 152 | G35: =IFERROR(SUMIF(月次集計!A2:A13,"<="&F4,月次集計!I2:I13)/D8,0) -> 0.21670964

Sheet 予算実績データ
A1: 月 | B1: 部門 | C1: 科目 | D1: 予算（万円） | E1: 実績（万円） | F1: 着地見通し（万円） | G1: 予実差異（万円）
A2: 1 | B2: 製造1課 | C2: 売上高 | D2: 903.9 | E2: 920.3 | F2: =IF(A2<=分析ダッシュボード!$F$4,IF(E2="",0,E2),D2*分析ダッシュボード!$I$4) -> 920.3 | G2: =IF(E2="","",E2-D2) -> 16.4
A3: 1 | B3: 製造1課 | C3: 変動費 | D3: 527.3 | E3: 501.6 | F3: =IF(A3<=分析ダッシュボード!$F$4,IF(E3="",0,E3),D3*分析ダッシュボード!$I$4) -> 501.6 | G3: =IF(E3="","",E3-D3) -> -25.7
A4: 1 | B4: 製造1課 | C4: 固定費 | D4: 195.8 | E4: 190.1 | F4: =IF(A4<=分析ダッシュボード!$F$4,IF(E4="",0,E4),D4*分析ダッシュボード!$I$4) -> 190.1 | G4: =IF(E4="","",E4-D4) -> -5.7
A5: 1 | B5: 製造2課 | C5: 売上高 | D5: 772.1 | E5: 744.3 | F5: =IF(A5<=分析ダッシュボード!$F$4,IF(E5="",0,E5),D5*分析ダッシュボード!$I$4) -> 744.3 | G5: =IF(E5="","",E5-D5) -> -27.8
A6: 1 | B6: 製造2課 | C6: 変動費 | D6: 447.3 | E6: 466.9 | F6: =IF(A6<=分析ダッシュボード!$F$4,IF(E6="",0,E6),D6*分析ダッシュボード!$I$4) -> 466.9 | G6: =IF(E6="","",E6-D6) -> 19.6
A7: 1 | B7: 製造2課 | C7: 固定費 | D7: 170.7 | E7: 174.6 | F7: =IF(A7<=分析ダッシュボード!$F$4,IF(E7="",0,E7),D7*分析ダッシュボード!$I$4) -> 174.6 | G7: =IF(E7="","",E7-D7) -> 3.9
A8: 1 | B8: 組立課 | C8: 売上高 | D8: 659.1 | E8: 692.7 | F8: =IF(A8<=分析ダッシュボード!$F$4,IF(E8="",0,E8),D8*分析ダッシュボード!$I$4) -> 692.7 | G8: =IF(E8="","",E8-D8) -> 33.6
A9: 1 | B9: 組立課 | C9: 変動費 | D9: 381.3 | E9: 365.8 | F9: =IF(A9<=分析ダッシュボード!$F$4,IF(E9="",0,E9),D9*分析ダッシュボード!$I$4) -> 365.8 | G9: =IF(E9="","",E9-D9) -> -15.5
A10: 1 | B10: 組立課 | C10: 固定費 | D10: 145.6 | E10: 144.1 | F10: =IF(A10<=分析ダッシュボード!$F$4,IF(E10="",0,E10),D10*分析ダッシュボード!$I$4) -> 144.1 | G10: =IF(E10="","",E10-D10) -> -1.5
A11: 1 | B11: 加工課 | C11: 売上高 | D11: 583.8 | E11: 548.1 | F11: =IF(A11<=分析ダッシュボード!$F$4,IF(E11="",0,E11),D11*分析ダッシュボード!$I$4) -> 548.1 | G11: =IF(E11="","",E11-D11) -> -35.7
A12: 1 | B12: 加工課 | C12: 変動費 | D12: 348.4 | E12: 340.2 | F12: =IF(A12<=分析ダッシュボード!$F$4,IF(E12="",0,E12),D12*分析ダッシュボード!$I$4) -> 340.2 | G12: =IF(E12="","",E12-D12) -> -8.2
A13: 1 | B13: 加工課 | C13: 固定費 | D13: 133.5 | E13: 133.6 | F13: =IF(A13<=分析ダッシュボード!$F$4,IF(E13="",0,E13),D13*分析ダッシュボード!$I$4) -> 133.6 | G13: =IF(E13="","",E13-D13) -> 0.1
... A136: 9 | B136: 物流課 | C136: 固定費 | D136: 111.9 | E136: 105.9 | F136: =IF(A136<=分析ダッシュボード!$F$4,IF(E136="",0,E136),D136*分析ダッシュボード!$I$4) -> 105.9 | G136: =IF(E136="","",E136-D136) -> -6
A137: 10 | B137: 製造1課 | C137: 売上高 | D137: 988.7 | F137: =IF(A137<=分析ダッシュボード!$F$4,IF(E137="",0,E137),D137*分析ダッシュボード!$I$4) -> 988.7 | G137: =IF(E137="","",E137-D137)
A138: 10 | B138: 製造1課 | C138: 変動費 | D138: 576.7 | F138: =IF(A138<=分析ダッシュボード!$F$4,IF(E138="",0,E138),D138*分析ダッシュボード!$I$4) -> 576.7 | G138: =IF(E138="","",E138-D138)
A139: 10 | B139: 製造1課 | C139: 固定費 | D139: 202.8 | F139: =IF(A139<=分析ダッシュボード!$F$4,IF(E139="",0,E139),D139*分析ダッシュボード!$I$4) -> 202.8 | G139: =IF(E139="","",E139-D139)
A140: 10 | B140: 製造2課 | C140: 売上高 | D140: 844.5 | F140: =IF(A140<=分析ダッシュボード!$F$4,IF(E140="",0,E140),D140*分析ダッシュボード!$I$4) -> 844.5 | G140: =IF(E140="","",E140-D140)
A141: 10 | B141: 製造2課 | C141: 変動費 | D141: 489.2 | F141: =IF(A141<=分析ダッシュボード!$F$4,IF(E141="",0,E141),D141*分析ダッシュボード!$I$4) -> 489.2 | G141: =IF(E141="","",E141-D141)
A142: 10 | B142: 製造2課 | C142: 固定費 | D142: 176.8 | F142: =IF(A142<=分析ダッシュボード!$F$4,IF(E142="",0,E142),D142*分析ダッシュボード!$I$4) -> 176.8 | G142: =IF(E142="","",E142-D142)
A143: 10 | B143: 組立課 | C143: 売上高 | D143: 720.9 | F143: =IF(A143<=分析ダッシュボード!$F$4,IF(E143="",0,E143),D143*分析ダッシュボード!$I$4) -> 720.9 | G143: =IF(E143="","",E143-D143)
A144: 10 | B144: 組立課 | C144: 変動費 | D144: 417.1 | F144: =IF(A144<=分析ダッシュボード!$F$4,IF(E144="",0,E144),D144*分析ダッシュボード!$I$4) -> 417.1 | G144: =IF(E144="","",E144-D144)
A145: 10 | B145: 組立課 | C145: 固定費 | D145: 150.8 | F145: =IF(A145<=分析ダッシュボード!$F$4,IF(E145="",0,E145),D145*分析ダッシュボード!$I$4) -> 150.8 | G145: =IF(E145="","",E145-D145)
A146: 10 | B146: 加工課 | C146: 売上高 | D146: 638.5 | F146: =IF(A146<=分析ダッシュボード!$F$4,IF(E146="",0,E146),D146*分析ダッシュボード!$I$4) -> 638.5 | G146: =IF(E146="","",E146-D146)
A147: 10 | B147: 加工課 | C147: 変動費 | D147: 381.1 | F147: =IF(A147<=分析ダッシュボード!$F$4,IF(E147="",0,E147),D147*分析ダッシュボード!$I$4) -> 381.1 | G147: =IF(E147="","",E147-D147)
A148: 10 | B148: 加工課 | C148: 固定費 | D148: 138.3 | F148: =IF(A148<=分析ダッシュボード!$F$4,IF(E148="",0,E148),D148*分析ダッシュボード!$I$4) -> 138.3 | G148: =IF(E148="","",E148-D148)
... A181: 12 | B181: 物流課 | C181: 固定費 | D181: 113.2 | F181: =IF(A181<=分析ダッシュボード!$F$4,IF(E181="",0,E181),D181*分析ダッシュボード!$I$4) -> 113.2 | G181: =IF(E181="","",E181-D181)

Sheet 月次集計
A1: 月 | B1: 売上予算 | C1: 売上実績 | D1: 売上着地見通し | E1: 費用予算 | F1: 費用実績 | G1: 費用着地見通し | H1: 利益予算 | I1: 利益実績 | J1: 利益着地見通し
A2: 1 | B2: =IF(分析ダッシュボード!$B$4="全部門",SUMIFS(予算実績データ!$D$2:$D$181,予算実績データ!$A$2:$A$181,$A2,予算実績データ!$C$2:$C$181,"売上高"),SUMIFS(予算実績データ!$D$2:$D$181,予算実績データ!$A$2:$A$181,$A2,予算実績データ!$C$2:$C$181,"売上高",予算実績データ!$B$2:$B$181,分析ダッシュボード!$B$4)) -> 3248.5 | C2: =IF($A2>分析ダッシュボード!$F$4,NA(),IF(分析ダッシュボード!$B$4="全部門",SUMIFS(予算実績データ!$E$2:$E$181,予算実績データ!$A$2:$A$181,$A2,予算実績データ!$C$2:$C$181,"売上高"),SUMIFS(予算実績データ!$E$2:$E$181,予算実績データ!$A$2:$A$181,$A2,予算実績データ!$C$2:$C$181,"売上高",予算実績データ!$B$2:$B$181,分析ダッシュボード!$B$4))) -> 3214.7 | D2: =IF(分析ダッシュボード!$B$4="全部門",SUMIFS(予算実績データ!$F$2:$F$181,予算実績データ!$A$2:$A$181,$A2,予算実績データ!$C$2:$C$181,"売上高"),SUMIFS(予算実績データ!$F$2:$F$181,予算実績データ!$A$2:$A$181,$A2,予算実績データ!$C$2:$C$181,"売上高",予算実績データ!$B$2:$B$181,分析ダッシュボード!$B$4)) -> 3214.7 | E2: =IF(分析ダッシュボード!$B$4="全部門",SUMIFS(予算実績データ!$D$2:$D$181,予算実績データ!$A$2:$A$181,$A2,予算実績データ!$C$2:$C$181,"変動費"),SUMIFS(予算実績データ!$D$2:$D$181,予算実績データ!$A$2:$A$181,$A2,予算実績データ!$C$2:$C$181,"変動費",予算実績データ!$B$2:$B$181,分析ダッシュボード!$B$4))+IF(分析ダッシュボード!$B$4="全部門",SUMIFS(予算実績データ!$D$2:$D$181,予算実績データ!$A$2:$A$181,$A2,予算実績データ!$C$2:$C$181,"固定費"),SUMIFS(予算実績データ!$D$2:$D$181,予算実績データ!$A$2:$A$181,$A2,予算実績データ!$C$2:$C$181,"固定費",予算実績データ!$B$2:$B$181,分析ダッシュボード!$B$4)) -> 2625.9 | F2: =IF($A2>分析ダッシュボード!$F$4,NA(),IF(分析ダッシュボード!$B$4="全部門",SUMIFS(予算実績データ!$E$2:$E$181,予算実績データ!$A$2:$A$181,$A2,予算実績データ!$C$2:$C$181,"変動費"),SUMIFS(予算実績データ!$E$2:$E$181,予算実績データ!$A$2:$A$181,$A2,予算実績データ!$C$2:$C$181,"変動費",予算実績データ!$B$2:$B$181,分析ダッシュボード!$B$4))+IF(分析ダッシュボード!$B$4="全部門",SUMIFS(予算実績データ!$E$2:$E$181,予算実績データ!$A$2:$A$181,$A2,予算実績データ!$C$2:$C$181,"固定費"),SUMIFS(予算実績データ!$E$2:$E$181,予算実績データ!$A$2:$A$181,$A2,予算実績データ!$C$2:$C$181,"固定費",予算実績データ!$B$2:$B$181,分析ダッシュボード!$B$4))) -> 2590.6 | G2: =IF(分析ダッシュボード!$B$4="全部門",SUMIFS(予算実績データ!$F$2:$F$181,予算実績データ!$A$2:$A$181,$A2,予算実績データ!$C$2:$C$181,"変動費"),SUMIFS(予算実績データ!$F$2:$F$181,予算実績データ!$A$2:$A$181,$A2,予算実績データ!$C$2:$C$181,"変動費",予算実績データ!$B$2:$B$181,分析ダッシュボード!$B$4))+IF(分析ダッシュボード!$B$4="全部門",SUMIFS(予算実績データ!$F$2:$F$181,予算実績データ!$A$2:$A$181,$A2,予算実績データ!$C$2:$C$181,"固定費"),SUMIFS(予算実績データ!$F$2:$F$181,予算実績データ!$A$2:$A$181,$A2,予算実績データ!$C$2:$C$181,"固定費",予算実績データ!$B$2:$B$181,分析ダッシュボード!$B$4)) -> 2590.6 | H2: =B2-E2 -> 622.6 | I2: =IF($A2>分析ダッシュボード!$F$4,NA(),C2-F2) -> 624.1 | J2: =D2-G2 -> 624.1
A3: 2 | B3: =IF(分析ダッシュボード!$B$4="全部門",SUMIFS(予算実績データ!$D$2:$D$181,予算実績データ!$A$2:$A$181,$A3,予算実績データ!$C$2:$C$181,"売上高"),SUMIFS(予算実績データ!$D$2:$D$181,予算実績データ!$A$2:$A$181,$A3,予算実績データ!$C$2:$C$181,"売上高",予算実績データ!$B$2:$B$181,分析ダッシュボード!$B$4)) -> 3367.1 | C3: =IF($A3>分析ダッシュボード!$F$4,NA(),IF(分析ダッシュボード!$B$4="全部門",SUMIFS(予算実績データ!$E$2:$E$181,予算実績データ!$A$2:$A$181,$A3,予算実績データ!$C$2:$C$181,"売上高"),SUMIFS(予算実績データ!$E$2:$E$181,予算実績データ!$A$2:$A$181,$A3,予算実績データ!$C$2:$C$181,"売上高",予算実績データ!$B$2:$B$181,分析ダッシュボード!$B$4))) -> 3440.5 | D3: =IF(分析ダッシュボード!$B$4="全部門",SUMIFS(予算実績データ!$F$2:$F$181,予算実績データ!$A$2:$A$181,$A3,予算実績データ!$C$2:$C$181,"売上高"),SUMIFS(予算実績データ!$F$2:$F$181,予算実績データ!$A$2:$A$181,$A3,予算実績データ!$C$2:$C$181,"売上高",予算実績データ!$B$2:$B$181,分析ダッシュボード!$B$4)) -> 3440.5 | E3: =IF(分析ダッシュボード!$B$4="全部門",SUMIFS(予算実績データ!$D$2:$D$181,予算実績データ!$A$2:$A$181,$A3,予算実績データ!$C$2:$C$181,"変動費"),SUMIFS(予算実績データ!$D$2:$D$181,予算実績データ!$A$2:$A$181,$A3,予算実績データ!$C$2:$C$181,"変動費",予算実績データ!$B$2:$B$181,分析ダッシュボード!$B$4))+IF(分析ダッシュボード!$B$4="全部門",SUMIFS(予算実績データ!$D$2:$D$181,予算実績データ!$A$2:$A$181,$A3,予算実績データ!$C$2:$C$181,"固定費"),SUMIFS(予算実績データ!$D$2:$D$181,予算実績データ!$A$2:$A$181,$A3,予算実績データ!$C$2:$C$181,"固定費",予算実績データ!$B$2:$B$181,分析ダッシュボード!$B$4)) -> 2697.4 | F3: =IF($A3>分析ダッシュボード!$F$4,NA(),IF(分析ダッシュボード!$B$4="全部門",SUMIFS(予算実績データ!$E$2:$E$181,予算実績データ!$A$2:$A$181,$A3,予算実績データ!$C$2:$C$181,"変動費"),SUMIFS(予算実績データ!$E$2:$E$181,予算実績データ!$A$2:$A$181,$A3,予算実績データ!$C$2:$C$181,"変動費",予算実績データ!$B$2:$B$181,分析ダッシュボード!$B$4))+IF(分析ダッシュボード!$B$4="全部門",SUMIFS(予算実績データ!$E$2:$E$181,予算実績データ!$A$2:$A$181,$A3,予算実績データ!$C$2:$C$181,"固定費"),SUMIFS(予算実績データ!$E$2:$E$181,予算実績データ!$A$2:$A$181,$A3,予算実績データ!$C$2:$C$181,"固定費",予算実績データ!$B$2:$B$181,分析ダッシュボード!$B$4))) -> 2661.9 | G3: =IF(分析ダッシュボード!$B$4="全部門",SUMIFS(予算実績データ!$F$2:$F$181,予算実績データ!$A$2:$A$181,$A3,予算実績データ!$C$2:$C$181,"変動費"),SUMIFS(予算実績データ!$F$2:$F$181,予算実績データ!$A$2:$A$181,$A3,予算実績データ!$C$2:$C$181,"変動費",予算実績データ!$B$2:$B$181,分析ダッシュボード!$B$4))+IF(分析ダッシュボード!$B$4="全部門",SUMIFS(予算実績データ!$F$2:$F$181,予算実績データ!$A$2:$A$181,$A3,予算実績データ!$C$2:$C$181,"固定費"),SUMIFS(予算実績データ!$F$2:$F$181,予算実績データ!$A$2:$A$181,$A3,予算実績データ!$C$2:$C$181,"固定費",予算実績データ!$B$2:$B$181,分析ダッシュボード!$B$4)) -> 2661.9 | H3: =B3-E3 -> 669.7 | I3: =IF($A3>分析ダッシュボード!$F$4,NA(),C3-F3) -> 778.6 | J3: =D3-G3 -> 778.6
A4: 3 | B4: =IF(分析ダッシュボード!$B$4="全部門",SUMIFS(予算実績データ!$D$2:$D$181,予算実績データ!$A$2:$A$181,$A4,予算実績データ!$C$2:$C$181,"売上高"),SUMIFS(予算実績データ!$D$2:$D$181,予算実績データ!$A$2:$A$181,$A4,予算実績データ!$C$2:$C$181,"売上高",予算実績データ!$B$2:$B$181,分析ダッシュボード!$B$4)) -> 3522.4 | C4: =IF($A4>分析ダッシュボード!$F$4,NA(),IF(分析ダッシュボード!$B$4="全部門",SUMIFS(予算実績データ!$E$2:$E$181,予算実績データ!$A$2:$A$181,$A4,予算実績データ!$C$2:$C$181,"売上高"),SUMIFS(予算実績データ!$E$2:$E$181,予算実績データ!$A$2:$A$181,$A4,予算実績データ!$C$2:$C$181,"売上高",予算実績データ!$B$2:$B$181,分析ダッシュボード!$B$4))) -> 3637.4 | D4: =IF(分析ダッシュボード!$B$4="全部門",SUMIFS(予算実績データ!$F$2:$F$181,予算実績データ!$A$2:$A$181,$A4,予算実績データ!$C$2:$C$181,"売上高"),SUMIFS(予算実績データ!$F$2:$F$181,予算実績データ!$A$2:$A$181,$A4,予算実績データ!$C$2:$C$181,"売上高",予算実績データ!$B$2:$B$181,分析ダッシュボード!$B$4)) -> 3637.4 | E4: =IF(分析ダッシュボード!$B$4="全部門",SUMIFS(予算実績データ!$D$2:$D$181,予算実績データ!$A$2:$A$181,$A4,予算実績データ!$C$2:$C$181,"変動費"),SUMIFS(予算実績データ!$D$2:$D$181,予算実績データ!$A$2:$A$181,$A4,予算実績データ!$C$2:$C$181,"変動費",予算実績データ!$B$2:$B$181,分析ダッシュボード!$B$4))+IF(分析ダッシュボード!$B$4="全部門",SUMIFS(予算実績データ!$D$2:$D$181,予算実績データ!$A$2:$A$181,$A4,予算実績データ!$C$2:$C$181,"固定費"),SUMIFS(予算実績データ!$D$2:$D$181,予算実績データ!$A$2:$A$181,$A4,予算実績データ!$C$2:$C$181,"固定費",予算実績データ!$B$2:$B$181,分析ダッシュボード!$B$4)) -> 2789.7 | F4: =IF($A4>分析ダッシュボード!$F$4,NA(),IF(分析ダッシュボード!$B$4="全部門",SUMIFS(予算実績データ!$E$2:$E$181,予算実績データ!$A$2:$A$181,$A4,予算実績データ!$C$2:$C$181,"変動費"),SUMIFS(予算実績データ!$E$2:$E$181,予算実績データ!$A$2:$A$181,$A4,予算実績データ!$C$2:$C$181,"変動費",予算実績データ!$B$2:$B$181,分析ダッシュボード!$B$4))+IF(分析ダッシュボード!$B$4="全部門",SUMIFS(予算実績データ!$E$2:$E$181,予算実績データ!$A$2:$A$181,$A4,予算実績データ!$C$2:$C$181,"固定費"),SUMIFS(予算実績データ!$E$2:$E$181,予算実績データ!$A$2:$A$181,$A4,予算実績データ!$C$2:$C$181,"固定費",予算実績データ!$B$2:$B$181,分析ダッシュボード!$B$4))) -> 2832 | G4: =IF(分析ダッシュボード!$B$4="全部門",SUMIFS(予算実績データ!$F$2:$F$181,予算実績データ!$A$2:$A$181,$A4,予算実績データ!$C$2:$C$181,"変動費"),SUMIFS(予算実績データ!$F$2:$F$181,予算実績データ!$A$2:$A$181,$A4,予算実績データ!$C$2:$C$181,"変動費",予算実績データ!$B$2:$B$181,分析ダッシュボード!$B$4))+IF(分析ダッシュボード!$B$4="全部門",SUMIFS(予算実績データ!$F$2:$F$181,予算実績データ!$A$2:$A$181,$A4,予算実績データ!$C$2:$C$181,"固定費"),SUMIFS(予算実績データ!$F$2:$F$181,予算実績データ!$A$2:$A$181,$A4,予算実績データ!$C$2:$C$181,"固定費",予算実績データ!$B$2:$B$181,分析ダッシュボード!$B$4)) -> 2832 | H4: =B4-E4 -> 732.7 | I4: =IF($A4>分析ダッシュボード!$F$4,NA(),C4-F4) -> 805.4 | J4: =D4-G4 -> 805.4
A5: 4 | B5: =IF(分析ダッシュボード!$B$4="全部門",SUMIFS(予算実績データ!$D$2:$D$181,予算実績データ!$A$2:$A$181,$A5,予算実績データ!$C$2:$C$181,"売上高"),SUMIFS(予算実績データ!$D$2:$D$181,予算実績データ!$A$2:$A$181,$A5,予算実績データ!$C$2:$C$181,"売上高",予算実績データ!$B$2:$B$181,分析ダッシュボード!$B$4)) -> 3679.7 | C5: =IF($A5>分析ダッシュボード!$F$4,NA(),IF(分析ダッシュボード!$B$4="全部門",SUMIFS(予算実績データ!$E$2:$E$181,予算実績データ!$A$2:$A$181,$A5,予算実績データ!$C$2:$C$181,"売上高"),SUMIFS(予算実績データ!$E$2:$E$181,予算実績データ!$A$2:$A$181,$A5,予算実績データ!$C$2:$C$181,"売上高",予算実績データ!$B$2:$B$181,分析ダッシュボード!$B$4))) -> 3655.1 | D5: =IF(分析ダッシュボード!$B$4="全部門",SUMIFS(予算実績データ!$F$2:$F$181,予算実績データ!$A$2:$A$181,$A5,予算実績データ!$C$2:$C$181,"売上高"),SUMIFS(予算実績データ!$F$2:$F$181,予算実績データ!$A$2:$A$181,$A5,予算実績データ!$C$2:$C$181,"売上高",予算実績データ!$B$2:$B$181,分析ダッシュボード!$B$4)) -> 3655.1 | E5: =IF(分析ダッシュボード!$B$4="全部門",SUMIFS(予算実績データ!$D$2:$D$181,予算実績データ!$A$2:$A$181,$A5,予算実績データ!$C$2:$C$181,"変動費"),SUMIFS(予算実績データ!$D$2:$D$181,予算実績データ!$A$2:$A$181,$A5,予算実績データ!$C$2:$C$181,"変動費",予算実績データ!$B$2:$B$181,分析ダッシュボード!$B$4))+IF(分析ダッシュボード!$B$4="全部門",SUMIFS(予算実績データ!$D$2:$D$181,予算実績データ!$A$2:$A$181,$A5,予算実績データ!$C$2:$C$181,"固定費"),SUMIFS(予算実績データ!$D$2:$D$181,予算実績データ!$A$2:$A$181,$A5,予算実績データ!$C$2:$C$181,"固定費",予算実績データ!$B$2:$B$181,分析ダッシュボード!$B$4)) -> 2883.2 | F5: =IF($A5>分析ダッシュボード!$F$4,NA(),IF(分析ダッシュボード!$B$4="全部門",SUMIFS(予算実績データ!$E$2:$E$181,予算実績データ!$A$2:$A$181,$A5,予算実績データ!$C$2:$C$181,"変動費"),SUMIFS(予算実績データ!$E$2:$E$181,予算実績データ!$A$2:$A$181,$A5,予算実績データ!$C$2:$C$181,"変動費",予算実績データ!$B$2:$B$181,分析ダッシュボード!$B$4))+IF(分析ダッシュボード!$B$4="全部門",SUMIFS(予算実績データ!$E$2:$E$181,予算実績データ!$A$2:$A$181,$A5,予算実績データ!$C$2:$C$181,"固定費"),SUMIFS(予算実績データ!$E$2:$E$181,予算実績データ!$A$2:$A$181,$A5,予算実績データ!$C$2:$C$181,"固定費",予算実績データ!$B$2:$B$181,分析ダッシュボード!$B$4))) -> 2847.4 | G5: =IF(分析ダッシュボード!$B$4="全部門",SUMIFS(予算実績データ!$F$2:$F$181,予算実績データ!$A$2:$A$181,$A5,予算実績データ!$C$2:$C$181,"変動費"),SUMIFS(予算実績データ!$F$2:$F$181,予算実績データ!$A$2:$A$181,$A5,予算実績データ!$C$2:$C$181,"変動費",予算実績データ!$B$2:$B$181,分析ダッシュボード!$B$4))+IF(分析ダッシュボード!$B$4="全部門",SUMIFS(予算実績データ!$F$2:$F$181,予算実績データ!$A$2:$A$181,$A5,予算実績データ!$C$2:$C$181,"固定費"),SUMIFS(予算実績データ!$F$2:$F$181,予算実績データ!$A$2:$A$181,$A5,予算実績データ!$C$2:$C$181,"固定費",予算実績データ!$B$2:$B$181,分析ダッシュボード!$B$4)) -> 2847.4 | H5: =B5-E5 -> 796.5 | I5: =IF($A5>分析ダッシュボード!$F$4,NA(),C5-F5) -> 807.7 | J5: =D5-G5 -> 807.7
A6: 5 | B6: =IF(分析ダッシュボード!$B$4="全部門",SUMIFS(予算実績データ!$D$2:$D$181,予算実績データ!$A$2:$A$181,$A6,予算実績データ!$C$2:$C$181,"売上高"),SUMIFS(予算実績データ!$D$2:$D$181,予算実績データ!$A$2:$A$181,$A6,予算実績データ!$C$2:$C$181,"売上高",予算実績データ!$B$2:$B$181,分析ダッシュボード!$B$4)) -> 3802.7 | C6: =IF($A6>分析ダッシュボード!$F$4,NA(),IF(分析ダッシュボード!$B$4="全部門",SUMIFS(予算実績データ!$E$2:$E$181,予算実績データ!$A$2:$A$181,$A6,予算実績データ!$C$2:$C$181,"売上高"),SUMIFS(予算実績データ!$E$2:$E$181,予算実績データ!$A$2:$A$181,$A6,予算実績データ!$C$2:$C$181,"売上高",予算実績データ!$B$2:$B$181,分析ダッシュボード!$B$4))) -> 3862.8 | D6: =IF(分析ダッシュボード!$B$4="全部門",SUMIFS(予算実績データ!$F$2:$F$181,予算実績データ!$A$2:$A$181,$A6,予算実績データ!$C$2:$C$181,"売上高"),SUMIFS(予算実績データ!$F$2:$F$181,予算実績データ!$A$2:$A$181,$A6,予算実績データ!$C$2:$C$181,"売上高",予算実績データ!$B$2:$B$181,分析ダッシュボード!$B$4)) -> 3862.8 | E6: =IF(分析ダッシュボード!$B$4="全部門",SUMIFS(予算実績データ!$D$2:$D$181,予算実績データ!$A$2:$A$181,$A6,予算実績データ!$C$2:$C$181,"変動費"),SUMIFS(予算実績データ!$D$2:$D$181,予算実績データ!$A$2:$A$181,$A6,予算実績データ!$C$2:$C$181,"変動費",予算実績データ!$B$2:$B$181,分析ダッシュボード!$B$4))+IF(分析ダッシュボード!$B$4="全部門",SUMIFS(予算実績データ!$D$2:$D$181,予算実績データ!$A$2:$A$181,$A6,予算実績データ!$C$2:$C$181,"固定費"),SUMIFS(予算実績データ!$D$2:$D$181,予算実績データ!$A$2:$A$181,$A6,予算実績データ!$C$2:$C$181,"固定費",予算実績データ!$B$2:$B$181,分析ダッシュボード!$B$4)) -> 2957.3 | F6: =IF($A6>分析ダッシュボード!$F$4,NA(),IF(分析ダッシュボード!$B$4="全部門",SUMIFS(予算実績データ!$E$2:$E$181,予算実績データ!$A$2:$A$181,$A6,予算実績データ!$C$2:$C$181,"変動費"),SUMIFS(予算実績データ!$E$2:$E$181,予算実績データ!$A$2:$A$181,$A6,予算実績データ!$C$2:$C$181,"変動費",予算実績データ!$B$2:$B$181,分析ダッシュボード!$B$4))+IF(分析ダッシュボード!$B$4="全部門",SUMIFS(予算実績データ!$E$2:$E$181,予算実績データ!$A$2:$A$181,$A6,予算実績データ!$C$2:$C$181,"固定費"),SUMIFS(予算実績データ!$E$2:$E$181,予算実績データ!$A$2:$A$181,$A6,予算実績データ!$C$2:$C$181,"固定費",予算実績データ!$B$2:$B$181,分析ダッシュボード!$B$4))) -> 2987.4 | G6: =IF(分析ダッシュボード!$B$4="全部門",SUMIFS(予算実績データ!$F$2:$F$181,予算実績データ!$A$2:$A$181,$A6,予算実績データ!$C$2:$C$181,"変動費"),SUMIFS(予算実績データ!$F$2:$F$181,予算実績データ!$A$2:$A$181,$A6,予算実績データ!$C$2:$C$181,"変動費",予算実績データ!$B$2:$B$181,分析ダッシュボード!$B$4))+IF(分析ダッシュボード!$B$4="全部門",SUMIFS(予算実績データ!$F$2:$F$181,予算実績データ!$A$2:$A$181,$A6,予算実績データ!$C$2:$C$181,"固定費"),SUMIFS(予算実績データ!$F$2:$F$181,予算実績データ!$A$2:$A$181,$A6,予算実績データ!$C$2:$C$181,"固定費",予算実績データ!$B$2:$B$181,分析ダッシュボード!$B$4)) -> 2987.4 | H6: =B6-E6 -> 845.4 | I6: =IF($A6>分析ダッシュボード!$F$4,NA(),C6-F6) -> 875.4 | J6: =D6-G6 -> 875.4
A7: 6 | B7: =IF(分析ダッシュボード!$B$4="全部門",SUMIFS(予算実績データ!$D$2:$D$181,予算実績データ!$A$2:$A$181,$A7,予算実績データ!$C$2:$C$181,"売上高"),SUMIFS(予算実績データ!$D$2:$D$181,予算実績データ!$A$2:$A$181,$A7,予算実績データ!$C$2:$C$181,"売上高",予算実績データ!$B$2:$B$181,分析ダッシュボード!$B$4)) -> 3864.5 | C7: =IF($A7>分析ダッシュボード!$F$4,NA(),IF(分析ダッシュボード!$B$4="全部門",SUMIFS(予算実績データ!$E$2:$E$181,予算実績データ!$A$2:$A$181,$A7,予算実績データ!$C$2:$C$181,"売上高"),SUMIFS(予算実績データ!$E$2:$E$181,予算実績データ!$A$2:$A$181,$A7,予算実績データ!$C$2:$C$181,"売上高",予算実績データ!$B$2:$B$181,分析ダッシュボード!$B$4))) -> 3789 | D7: =IF(分析ダッシュボード!$B$4="全部門",SUMIFS(予算実績データ!$F$2:$F$181,予算実績データ!$A$2:$A$181,$A7,予算実績データ!$C$2:$C$181,"売上高"),SUMIFS(予算実績データ!$F$2:$F$181,予算実績データ!$A$2:$A$181,$A7,予算実績データ!$C$2:$C$181,"売上高",予算実績データ!$B$2:$B$181,分析ダッシュボード!$B$4)) -> 3789 | E7: =IF(分析ダッシュボード!$B$4="全部門",SUMIFS(予算実績データ!$D$2:$D$181,予算実績データ!$A$2:$A$181,$A7,予算実績データ!$C$2:$C$181,"変動費"),SUMIFS(予算実績データ!$D$2:$D$181,予算実績データ!$A$2:$A$181,$A7,予算実績データ!$C$2:$C$181,"変動費",予算実績データ!$B$2:$B$181,分析ダッシュボード!$B$4))+IF(分析ダッシュボード!$B$4="全部門",SUMIFS(予算実績データ!$D$2:$D$181,予算実績データ!$A$2:$A$181,$A7,予算実績データ!$C$2:$C$181,"固定費"),SUMIFS(予算実績データ!$D$2:$D$181,予算実績データ!$A$2:$A$181,$A7,予算実績データ!$C$2:$C$181,"固定費",予算実績データ!$B$2:$B$181,分析ダッシュボード!$B$4)) -> 2996.1 | F7: =IF($A7>分析ダッシュボード!$F$4,NA(),IF(分析ダッシュボード!$B$4="全部門",SUMIFS(予算実績データ!$E$2:$E$181,予算実績データ!$A$2:$A$181,$A7,予算実績データ!$C$2:$C$181,"変動費"),SUMIFS(予算実績データ!$E$2:$E$181,予算実績データ!$A$2:$A$181,$A7,予算実績データ!$C$2:$C$181,"変動費",予算実績データ!$B$2:$B$181,分析ダッシュボード!$B$4))+IF(分析ダッシュボード!$B$4="全部門",SUMIFS(予算実績データ!$E$2:$E$181,予算実績データ!$A$2:$A$181,$A7,予算実績データ!$C$2:$C$181,"固定費"),SUMIFS(予算実績データ!$E$2:$E$181,予算実績データ!$A$2:$A$181,$A7,予算実績データ!$C$2:$C$181,"固定費",予算実績データ!$B$2:$B$181,分析ダッシュボード!$B$4))) -> 3031 | G7: =IF(分析ダッシュボード!$B$4="全部門",SUMIFS(予算実績データ!$F$2:$F$181,予算実績データ!$A$2:$A$181,$A7,予算実績データ!$C$2:$C$181,"変動費"),SUMIFS(予算実績データ!$F$2:$F$181,予算実績データ!$A$2:$A$181,$A7,予算実績データ!$C$2:$C$181,"変動費",予算実績データ!$B$2:$B$181,分析ダッシュボード!$B$4))+IF(分析ダッシュボード!$B$4="全部門",SUMIFS(予算実績データ!$F$2:$F$181,予算実績データ!$A$2:$A$181,$A7,予算実績データ!$C$2:$C$181,"固定費"),SUMIFS(予算実績データ!$F$2:$F$181,予算実績データ!$A$2:$A$181,$A7,予算実績データ!$C$2:$C$181,"固定費",予算実績データ!$B$2:$B$181,分析ダッシュボード!$B$4)) -> 3031 | H7: =B7-E7 -> 868.4 | I7: =IF($A7>分析ダッシュボード!$F$4,NA(),C7-F7) -> 758 | J7: =D7-G7 -> 758
A8: 7 | B8: =IF(分析ダッシュボード!$B$4="全部門",SUMIFS(予算実績データ!$D$2:$D$181,予算実績データ!$A$2:$A$181,$A8,予算実績データ!$C$2:$C$181,"売上高"),SUMIFS(予算実績データ!$D$2:$D$181,予算実績データ!$A$2:$A$181,$A8,予算実績データ!$C$2:$C$181,"売上高",予算実績データ!$B$2:$B$181,分析ダッシュボード!$B$4)) -> 3854.1 | C8: =IF($A8>分析ダッシュボード!$F$4,NA(),IF(分析ダッシュボード!$B$4="全部門",SUMIFS(予算実績データ!$E$2:$E$181,予算実績データ!$A$2:$A$181,$A8,予算実績データ!$C$2:$C$181,"売上高"),SUMIFS(予算実績データ!$E$2:$E$181,予算実績データ!$A$2:$A$181,$A8,予算実績データ!$C$2:$C$181,"売上高",予算実績データ!$B$2:$B$181,分析ダッシュボード!$B$4))) -> 3882.5 | D8: =IF(分析ダッシュボード!$B$4="全部門",SUMIFS(予算実績データ!$F$2:$F$181,予算実績データ!$A$2:$A$181,$A8,予算実績データ!$C$2:$C$181,"売上高"),SUMIFS(予算実績データ!$F$2:$F$181,予算実績データ!$A$2:$A$181,$A8,予算実績データ!$C$2:$C$181,"売上高",予算実績データ!$B$2:$B$181,分析ダッシュボード!$B$4)) -> 3882.5 | E8: =IF(分析ダッシュボード!$B$4="全部門",SUMIFS(予算実績データ!$D$2:$D$181,予算実績データ!$A$2:$A$181,$A8,予算実績データ!$C$2:$C$181,"変動費"),SUMIFS(予算実績データ!$D$2:$D$181,予算実績データ!$A$2:$A$181,$A8,予算実績データ!$C$2:$C$181,"変動費",予算実績データ!$B$2:$B$181,分析ダッシュボード!$B$4))+IF(分析ダッシュボード!$B$4="全部門",SUMIFS(予算実績データ!$D$2:$D$181,予算実績データ!$A$2:$A$181,$A8,予算実績データ!$C$2:$C$181,"固定費"),SUMIFS(予算実績データ!$D$2:$D$181,予算実績データ!$A$2:$A$181,$A8,予算実績データ!$C$2:$C$181,"固定費",予算実績データ!$B$2:$B$181,分析ダッシュボード!$B$4)) -> 2992.8 | F8: =IF($A8>分析ダッシュボード!$F$4,NA(),IF(分析ダッシュボード!$B$4="全部門",SUMIFS(予算実績データ!$E$2:$E$181,予算実績データ!$A$2:$A$181,$A8,予算実績データ!$C$2:$C$181,"変動費"),SUMIFS(予算実績データ!$E$2:$E$181,予算実績データ!$A$2:$A$181,$A8,予算実績データ!$C$2:$C$181,"変動費",予算実績データ!$B$2:$B$181,分析ダッシュボード!$B$4))+IF(分析ダッシュボード!$B$4="全部門",SUMIFS(予算実績データ!$E$2:$E$181,予算実績データ!$A$2:$A$181,$A8,予算実績データ!$C$2:$C$181,"固定費"),SUMIFS(予算実績データ!$E$2:$E$181,予算実績データ!$A$2:$A$181,$A8,予算実績データ!$C$2:$C$181,"固定費",予算実績データ!$B$2:$B$181,分析ダッシュボード!$B$4))) -> 2992.8 | G8: =IF(分析ダッシュボード!$B$4="全部門",SUMIFS(予算実績データ!$F$2:$F$181,予算実績データ!$A$2:$A$181,$A8,予算実績データ!$C$2:$C$181,"変動費"),SUMIFS(予算実績データ!$F$2:$F$181,予算実績データ!$A$2:$A$181,$A8,予算実績データ!$C$2:$C$181,"変動費",予算実績データ!$B$2:$B$181,分析ダッシュボード!$B$4))+IF(分析ダッシュボード!$B$4="全部門",SUMIFS(予算実績データ!$F$2:$F$181,予算実績データ!$A$2:$A$181,$A8,予算実績データ!$C$2:$C$181,"固定費"),SUMIFS(予算実績データ!$F$2:$F$181,予算実績データ!$A$2:$A$181,$A8,予算実績データ!$C$2:$C$181,"固定費",予算実績データ!$B$2:$B$181,分析ダッシュボード!$B$4)) -> 2992.8 | H8: =B8-E8 -> 861.3 | I8: =IF($A8>分析ダッシュボード!$F$4,NA(),C8-F8) -> 889.7 | J8: =D8-G8 -> 889.7
A9: 8 | B9: =IF(分析ダッシュボード!$B$4="全部門",SUMIFS(予算実績データ!$D$2:$D$181,予算実績データ!$A$2:$A$181,$A9,予算実績データ!$C$2:$C$181,"売上高"),SUMIFS(予算実績データ!$D$2:$D$181,予算実績データ!$A$2:$A$181,$A9,予算実績データ!$C$2:$C$181,"売上高",予算実績データ!$B$2:$B$181,分析ダッシュボード!$B$4)) -> 3779.9 | C9: =IF($A9>分析ダッシュボード!$F$4,NA(),IF(分析ダッシュボード!$B$4="全部門",SUMIFS(予算実績データ!$E$2:$E$181,予算実績データ!$A$2:$A$181,$A9,予算実績データ!$C$2:$C$181,"売上高"),SUMIFS(予算実績データ!$E$2:$E$181,予算実績データ!$A$2:$A$181,$A9,予算実績データ!$C$2:$C$181,"売上高",予算実績データ!$B$2:$B$181,分析ダッシュボード!$B$4))) -> 3813.5 | D9: =IF(分析ダッシュボード!$B$4="全部門",SUMIFS(予算実績データ!$F$2:$F$181,予算実績データ!$A$2:$A$181,$A9,予算実績データ!$C$2:$C$181,"売上高"),SUMIFS(予算実績データ!$F$2:$F$181,予算実績データ!$A$2:$A$181,$A9,予算実績データ!$C$2:$C$181,"売上高",予算実績データ!$B$2:$B$181,分析ダッシュボード!$B$4)) -> 3813.5 | E9: =IF(分析ダッシュボード!$B$4="全部門",SUMIFS(予算実績データ!$D$2:$D$181,予算実績データ!$A$2:$A$181,$A9,予算実績データ!$C$2:$C$181,"変動費"),SUMIFS(予算実績データ!$D$2:$D$181,予算実績データ!$A$2:$A$181,$A9,予算実績データ!$C$2:$C$181,"変動費",予算実績データ!$B$2:$B$181,分析ダッシュボード!$B$4))+IF(分析ダッシュボード!$B$4="全部門",SUMIFS(予算実績データ!$D$2:$D$181,予算実績データ!$A$2:$A$181,$A9,予算実績データ!$C$2:$C$181,"固定費"),SUMIFS(予算実績データ!$D$2:$D$181,予算実績データ!$A$2:$A$181,$A9,予算実績データ!$C$2:$C$181,"固定費",予算実績データ!$B$2:$B$181,分析ダッシュボード!$B$4)) -> 2953 | F9: =IF($A9>分析ダッシュボード!$F$4,NA(),IF(分析ダッシュボード!$B$4="全部門",SUMIFS(予算実績データ!$E$2:$E$181,予算実績データ!$A$2:$A$181,$A9,予算実績データ!$C$2:$C$181,"変動費"),SUMIFS(予算実績データ!$E$2:$E$181,予算実績データ!$A$2:$A$181,$A9,予算実績データ!$C$2:$C$181,"変動費",予算実績データ!$B$2:$B$181,分析ダッシュボード!$B$4))+IF(分析ダッシュボード!$B$4="全部門",SUMIFS(予算実績データ!$E$2:$E$181,予算実績データ!$A$2:$A$181,$A9,予算実績データ!$C$2:$C$181,"固定費"),SUMIFS(予算実績データ!$E$2:$E$181,予算実績データ!$A$2:$A$181,$A9,予算実績データ!$C$2:$C$181,"固定費",予算実績データ!$B$2:$B$181,分析ダッシュボード!$B$4))) -> 2995.5 | G9: =IF(分析ダッシュボード!$B$4="全部門",SUMIFS(予算実績データ!$F$2:$F$181,予算実績データ!$A$2:$A$181,$A9,予算実績データ!$C$2:$C$181,"変動費"),SUMIFS(予算実績データ!$F$2:$F$181,予算実績データ!$A$2:$A$181,$A9,予算実績データ!$C$2:$C$181,"変動費",予算実績データ!$B$2:$B$181,分析ダッシュボード!$B$4))+IF(分析ダッシュボード!$B$4="全部門",SUMIFS(予算実績データ!$F$2:$F$181,予算実績データ!$A$2:$A$181,$A9,予算実績データ!$C$2:$C$181,"固定費"),SUMIFS(予算実績データ!$F$2:$F$181,予算実績データ!$A$2:$A$181,$A9,予算実績データ!$C$2:$C$181,"固定費",予算実績データ!$B$2:$B$181,分析ダッシュボード!$B$4)) -> 2995.5 | H9: =B9-E9 -> 826.9 | I9: =IF($A9>分析ダッシュボード!$F$4,NA(),C9-F9) -> 818 | J9: =D9-G9 -> 818
A10: 9 | B10: =IF(分析ダッシュボード!$B$4="全部門",SUMIFS(予算実績データ!$D$2:$D$181,予算実績データ!$A$2:$A$181,$A10,予算実績データ!$C$2:$C$181,"売上高"),SUMIFS(予算実績データ!$D$2:$D$181,予算実績データ!$A$2:$A$181,$A10,予算実績データ!$C$2:$C$181,"売上高",予算実績データ!$B$2:$B$181,分析ダッシュボード!$B$4)) -> 3667.4 | C10: =IF($A10>分析ダッシュボード!$F$4,NA(),IF(分析ダッシュボード!$B$4="全部門",SUMIFS(予算実績データ!$E$2:$E$181,予算実績データ!$A$2:$A$181,$A10,予算実績データ!$C$2:$C$181,"売上高"),SUMIFS(予算実績データ!$E$2:$E$181,予算実績データ!$A$2:$A$181,$A10,予算実績データ!$C$2:$C$181,"売上高",予算実績データ!$B$2:$B$181,分析ダッシュボード!$B$4))) -> 3705.8 | D10: =IF(分析ダッシュボード!$B$4="全部門",SUMIFS(予算実績データ!$F$2:$F$181,予算実績データ!$A$2:$A$181,$A10,予算実績データ!$C$2:$C$181,"売上高"),SUMIFS(予算実績データ!$F$2:$F$181,予算実績データ!$A$2:$A$181,$A10,予算実績データ!$C$2:$C$181,"売上高",予算実績データ!$B$2:$B$181,分析ダッシュボード!$B$4)) -> 3705.8 | E10: =IF(分析ダッシュボード!$B$4="全部門",SUMIFS(予算実績データ!$D$2:$D$181,予算実績データ!$A$2:$A$181,$A10,予算実績データ!$C$2:$C$181,"変動費"),SUMIFS(予算実績データ!$D$2:$D$181,予算実績データ!$A$2:$A$181,$A10,予算実績データ!$C$2:$C$181,"変動費",予算実績データ!$B$2:$B$181,分析ダッシュボード!$B$4))+IF(分析ダッシュボード!$B$4="全部門",SUMIFS(予算実績データ!$D$2:$D$181,予算実績データ!$A$2:$A$181,$A10,予算実績データ!$C$2:$C$181,"固定費"),SUMIFS(予算実績データ!$D$2:$D$181,予算実績データ!$A$2:$A$181,$A10,予算実績データ!$C$2:$C$181,"固定費",予算実績データ!$B$2:$B$181,分析ダッシュボード!$B$4)) -> 2891.2 | F10: =IF($A10>分析ダッシュボード!$F$4,NA(),IF(分析ダッシュボード!$B$4="全部門",SUMIFS(予算実績データ!$E$2:$E$181,予算実績データ!$A$2:$A$181,$A10,予算実績データ!$C$2:$C$181,"変動費"),SUMIFS(予算実績データ!$E$2:$E$181,予算実績データ!$A$2:$A$181,$A10,予算実績データ!$C$2:$C$181,"変動費",予算実績データ!$B$2:$B$181,分析ダッシュボード!$B$4))+IF(分析ダッシュボード!$B$4="全部門",SUMIFS(予算実績データ!$E$2:$E$181,予算実績データ!$A$2:$A$181,$A10,予算実績データ!$C$2:$C$181,"固定費"),SUMIFS(予算実績データ!$E$2:$E$181,予算実績データ!$A$2:$A$181,$A10,予算実績データ!$C$2:$C$181,"固定費",予算実績データ!$B$2:$B$181,分析ダッシュボード!$B$4))) -> 2911 | G10: =IF(分析ダッシュボード!$B$4="全部門",SUMIFS(予算実績データ!$F$2:$F$181,予算実績データ!$A$2:$A$181,$A10,予算実績データ!$C$2:$C$181,"変動費"),SUMIFS(予算実績データ!$F$2:$F$181,予算実績データ!$A$2:$A$181,$A10,予算実績データ!$C$2:$C$181,"変動費",予算実績データ!$B$2:$B$181,分析ダッシュボード!$B$4))+IF(分析ダッシュボード!$B$4="全部門",SUMIFS(予算実績データ!$F$2:$F$181,予算実績データ!$A$2:$A$181,$A10,予算実績データ!$C$2:$C$181,"固定費"),SUMIFS(予算実績データ!$F$2:$F$181,予算実績データ!$A$2:$A$181,$A10,予算実績データ!$C$2:$C$181,"固定費",予算実績データ!$B$2:$B$181,分析ダッシュボード!$B$4)) -> 2911 | H10: =B10-E10 -> 776.2 | I10: =IF($A10>分析ダッシュボード!$F$4,NA(),C10-F10) -> 794.8 | J10: =D10-G10 -> 794.8
A11: 10 | B11: =IF(分析ダッシュボード!$B$4="全部門",SUMIFS(予算実績データ!$D$2:$D$181,予算実績データ!$A$2:$A$181,$A11,予算実績データ!$C$2:$C$181,"売上高"),SUMIFS(予算実績データ!$D$2:$D$181,予算実績データ!$A$2:$A$181,$A11,予算実績データ!$C$2:$C$181,"売上高",予算実績データ!$B$2:$B$181,分析ダッシュボード!$B$4)) -> 3553.1 | C11: =IF($A11>分析ダッシュボード!$F$4,NA(),IF(分析ダッシュボード!$B$4="全部門",SUMIFS(予算実績データ!$E$2:$E$181,予算実績データ!$A$2:$A$181,$A11,予算実績データ!$C$2:$C$181,"売上高"),SUMIFS(予算実績データ!$E$2:$E$181,予算実績データ!$A$2:$A$181,$A11,予算実績データ!$C$2:$C$181,"売上高",予算実績データ!$B$2:$B$181,分析ダッシュボード!$B$4))) -> #N/A | D11: =IF(分析ダッシュボード!$B$4="全部門",SUMIFS(予算実績データ!$F$2:$F$181,予算実績データ!$A$2:$A$181,$A11,予算実績データ!$C$2:$C$181,"売上高"),SUMIFS(予算実績データ!$F$2:$F$181,予算実績データ!$A$2:$A$181,$A11,予算実績データ!$C$2:$C$181,"売上高",予算実績データ!$B$2:$B$181,分析ダッシュボード!$B$4)) -> 3553.1 | E11: =IF(分析ダッシュボード!$B$4="全部門",SUMIFS(予算実績データ!$D$2:$D$181,予算実績データ!$A$2:$A$181,$A11,予算実績データ!$C$2:$C$181,"変動費"),SUMIFS(予算実績データ!$D$2:$D$181,予算実績データ!$A$2:$A$181,$A11,予算実績データ!$C$2:$C$181,"変動費",予算実績データ!$B$2:$B$181,分析ダッシュボード!$B$4))+IF(分析ダッシュボード!$B$4="全部門",SUMIFS(予算実績データ!$D$2:$D$181,予算実績データ!$A$2:$A$181,$A11,予算実績データ!$C$2:$C$181,"固定費"),SUMIFS(予算実績データ!$D$2:$D$181,予算実績データ!$A$2:$A$181,$A11,予算実績データ!$C$2:$C$181,"固定費",予算実績データ!$B$2:$B$181,分析ダッシュボード!$B$4)) -> 2828.4 | F11: =IF($A11>分析ダッシュボード!$F$4,NA(),IF(分析ダッシュボード!$B$4="全部門",SUMIFS(予算実績データ!$E$2:$E$181,予算実績データ!$A$2:$A$181,$A11,予算実績データ!$C$2:$C$181,"変動費"),SUMIFS(予算実績データ!$E$2:$E$181,予算実績データ!$A$2:$A$181,$A11,予算実績データ!$C$2:$C$181,"変動費",予算実績データ!$B$2:$B$181,分析ダッシュボード!$B$4))+IF(分析ダッシュボード!$B$4="全部門",SUMIFS(予算実績データ!$E$2:$E$181,予算実績データ!$A$2:$A$181,$A11,予算実績データ!$C$2:$C$181,"固定費"),SUMIFS(予算実績データ!$E$2:$E$181,予算実績データ!$A$2:$A$181,$A11,予算実績データ!$C$2:$C$181,"固定費",予算実績データ!$B$2:$B$181,分析ダッシュボード!$B$4))) -> #N/A | G11: =IF(分析ダッシュボード!$B$4="全部門",SUMIFS(予算実績データ!$F$2:$F$181,予算実績データ!$A$2:$A$181,$A11,予算実績データ!$C$2:$C$181,"変動費"),SUMIFS(予算実績データ!$F$2:$F$181,予算実績データ!$A$2:$A$181,$A11,予算実績データ!$C$2:$C$181,"変動費",予算実績データ!$B$2:$B$181,分析ダッシュボード!$B$4))+IF(分析ダッシュボード!$B$4="全部門",SUMIFS(予算実績データ!$F$2:$F$181,予算実績データ!$A$2:$A$181,$A11,予算実績データ!$C$2:$C$181,"固定費"),SUMIFS(予算実績データ!$F$2:$F$181,予算実績データ!$A$2:$A$181,$A11,予算実績データ!$C$2:$C$181,"固定費",予算実績データ!$B$2:$B$181,分析ダッシュボード!$B$4)) -> 2828.4 | H11: =B11-E11 -> 724.7 | I11: =IF($A11>分析ダッシュボード!$F$4,NA(),C11-F11) -> #N/A | J11: =D11-G11 -> 724.7
A12: 11 | B12: =IF(分析ダッシュボード!$B$4="全部門",SUMIFS(予算実績データ!$D$2:$D$181,予算実績データ!$A$2:$A$181,$A12,予算実績データ!$C$2:$C$181,"売上高"),SUMIFS(予算実績データ!$D$2:$D$181,予算実績データ!$A$2:$A$181,$A12,予算実績データ!$C$2:$C$181,"売上高",予算実績データ!$B$2:$B$181,分析ダッシュボード!$B$4)) -> 3474.4 | C12: =IF($A12>分析ダッシュボード!$F$4,NA(),IF(分析ダッシュボード!$B$4="全部門",SUMIFS(予算実績データ!$E$2:$E$181,予算実績データ!$A$2:$A$181,$A12,予算実績データ!$C$2:$C$181,"売上高"),SUMIFS(予算実績データ!$E$2:$E$181,予算実績データ!$A$2:$A$181,$A12,予算実績データ!$C$2:$C$181,"売上高",予算実績データ!$B$2:$B$181,分析ダッシュボード!$B$4))) -> #N/A | D12: =IF(分析ダッシュボード!$B$4="全部門",SUMIFS(予算実績データ!$F$2:$F$181,予算実績データ!$A$2:$A$181,$A12,予算実績データ!$C$2:$C$181,"売上高"),SUMIFS(予算実績データ!$F$2:$F$181,予算実績データ!$A$2:$A$181,$A12,予算実績データ!$C$2:$C$181,"売上高",予算実績データ!$B$2:$B$181,分析ダッシュボード!$B$4)) -> 3474.4 | E12: =IF(分析ダッシュボード!$B$4="全部門",SUMIFS(予算実績データ!$D$2:$D$181,予算実績データ!$A$2:$A$181,$A12,予算実績データ!$C$2:$C$181,"変動費"),SUMIFS(予算実績データ!$D$2:$D$181,予算実績データ!$A$2:$A$181,$A12,予算実績データ!$C$2:$C$181,"変動費",予算実績データ!$B$2:$B$181,分析ダッシュボード!$B$4))+IF(分析ダッシュボード!$B$4="全部門",SUMIFS(予算実績データ!$D$2:$D$181,予算実績データ!$A$2:$A$181,$A12,予算実績データ!$C$2:$C$181,"固定費"),SUMIFS(予算実績データ!$D$2:$D$181,予算実績データ!$A$2:$A$181,$A12,予算実績データ!$C$2:$C$181,"固定費",予算実績データ!$B$2:$B$181,分析ダッシュボード!$B$4)) -> 2786.2 | F12: =IF($A12>分析ダッシュボード!$F$4,NA(),IF(分析ダッシュボード!$B$4="全部門",SUMIFS(予算実績データ!$E$2:$E$181,予算実績データ!$A$2:$A$181,$A12,予算実績データ!$C$2:$C$181,"変動費"),SUMIFS(予算実績データ!$E$2:$E$181,予算実績データ!$A$2:$A$181,$A12,予算実績データ!$C$2:$C$181,"変動費",予算実績データ!$B$2:$B$181,分析ダッシュボード!$B$4))+IF(分析ダッシュボード!$B$4="全部門",SUMIFS(予算実績データ!$E$2:$E$181,予算実績データ!$A$2:$A$181,$A12,予算実績データ!$C$2:$C$181,"固定費"),SUMIFS(予算実績データ!$E$2:$E$181,予算実績データ!$A$2:$A$181,$A12,予算実績データ!$C$2:$C$181,"固定費",予算実績データ!$B$2:$B$181,分析ダッシュボード!$B$4))) -> #N/A | G12: =IF(分析ダッシュボード!$B$4="全部門",SUMIFS(予算実績データ!$F$2:$F$181,予算実績データ!$A$2:$A$181,$A12,予算実績データ!$C$2:$C$181,"変動費"),SUMIFS(予算実績データ!$F$2:$F$181,予算実績データ!$A$2:$A$181,$A12,予算実績データ!$C$2:$C$181,"変動費",予算実績データ!$B$2:$B$181,分析ダッシュボード!$B$4))+IF(分析ダッシュボード!$B$4="全部門",SUMIFS(予算実績データ!$F$2:$F$181,予算実績データ!$A$2:$A$181,$A12,予算実績データ!$C$2:$C$181,"固定費"),SUMIFS(予算実績データ!$F$2:$F$181,予算実績データ!$A$2:$A$181,$A12,予算実績データ!$C$2:$C$181,"固定費",予算実績データ!$B$2:$B$181,分析ダッシュボード!$B$4)) -> 2786.2 | H12: =B12-E12 -> 688.2 | I12: =IF($A12>分析ダッシュボード!$F$4,NA(),C12-F12) -> #N/A | J12: =D12-G12 -> 688.2
A13: 12 | B13: =IF(分析ダッシュボード!$B$4="全部門",SUMIFS(予算実績データ!$D$2:$D$181,予算実績データ!$A$2:$A$181,$A13,予算実績データ!$C$2:$C$181,"売上高"),SUMIFS(予算実績データ!$D$2:$D$181,予算実績データ!$A$2:$A$181,$A13,予算実績データ!$C$2:$C$181,"売上高",予算実績データ!$B$2:$B$181,分析ダッシュボード!$B$4)) -> 3459.3 | C13: =IF($A13>分析ダッシュボード!$F$4,NA(),IF(分析ダッシュボード!$B$4="全部門",SUMIFS(予算実績データ!$E$2:$E$181,予算実績データ!$A$2:$A$181,$A13,予算実績データ!$C$2:$C$181,"売上高"),SUMIFS(予算実績データ!$E$2:$E$181,予算実績データ!$A$2:$A$181,$A13,予算実績データ!$C$2:$C$181,"売上高",予算実績データ!$B$2:$B$181,分析ダッシュボード!$B$4))) -> #N/A | D13: =IF(分析ダッシュボード!$B$4="全部門",SUMIFS(予算実績データ!$F$2:$F$181,予算実績データ!$A$2:$A$181,$A13,予算実績データ!$C$2:$C$181,"売上高"),SUMIFS(予算実績データ!$F$2:$F$181,予算実績データ!$A$2:$A$181,$A13,予算実績データ!$C$2:$C$181,"売上高",予算実績データ!$B$2:$B$181,分析ダッシュボード!$B$4)) -> 3459.3 | E13: =IF(分析ダッシュボード!$B$4="全部門",SUMIFS(予算実績データ!$D$2:$D$181,予算実績データ!$A$2:$A$181,$A13,予算実績データ!$C$2:$C$181,"変動費"),SUMIFS(予算実績データ!$D$2:$D$181,予算実績データ!$A$2:$A$181,$A13,予算実績データ!$C$2:$C$181,"変動費",予算実績データ!$B$2:$B$181,分析ダッシュボード!$B$4))+IF(分析ダッシュボード!$B$4="全部門",SUMIFS(予算実績データ!$D$2:$D$181,予算実績データ!$A$2:$A$181,$A13,予算実績データ!$C$2:$C$181,"固定費"),SUMIFS(予算実績データ!$D$2:$D$181,予算実績データ!$A$2:$A$181,$A13,予算実績データ!$C$2:$C$181,"固定費",予算実績データ!$B$2:$B$181,分析ダッシュボード!$B$4)) -> 2780.6 | F13: =IF($A13>分析ダッシュボード!$F$4,NA(),IF(分析ダッシュボード!$B$4="全部門",SUMIFS(予算実績データ!$E$2:$E$181,予算実績データ!$A$2:$A$181,$A13,予算実績データ!$C$2:$C$181,"変動費"),SUMIFS(予算実績データ!$E$2:$E$181,予算実績データ!$A$2:$A$181,$A13,予算実績データ!$C$2:$C$181,"変動費",予算実績データ!$B$2:$B$181,分析ダッシュボード!$B$4))+IF(分析ダッシュボード!$B$4="全部門",SUMIFS(予算実績データ!$E$2:$E$181,予算実績データ!$A$2:$A$181,$A13,予算実績データ!$C$2:$C$181,"固定費"),SUMIFS(予算実績データ!$E$2:$E$181,予算実績データ!$A$2:$A$181,$A13,予算実績データ!$C$2:$C$181,"固定費",予算実績データ!$B$2:$B$181,分析ダッシュボード!$B$4))) -> #N/A | G13: =IF(分析ダッシュボード!$B$4="全部門",SUMIFS(予算実績データ!$F$2:$F$181,予算実績データ!$A$2:$A$181,$A13,予算実績データ!$C$2:$C$181,"変動費"),SUMIFS(予算実績データ!$F$2:$F$181,予算実績データ!$A$2:$A$181,$A13,予算実績データ!$C$2:$C$181,"変動費",予算実績データ!$B$2:$B$181,分析ダッシュボード!$B$4))+IF(分析ダッシュボード!$B$4="全部門",SUMIFS(予算実績データ!$F$2:$F$181,予算実績データ!$A$2:$A$181,$A13,予算実績データ!$C$2:$C$181,"固定費"),SUMIFS(予算実績データ!$F$2:$F$181,予算実績データ!$A$2:$A$181,$A13,予算実績データ!$C$2:$C$181,"固定費",予算実績データ!$B$2:$B$181,分析ダッシュボード!$B$4)) -> 2780.6 | H13: =B13-E13 -> 678.7 | I13: =IF($A13>分析ダッシュボード!$F$4,NA(),C13-F13) -> #N/A | J13: =D13-G13 -> 678.7
