Workbook

Sheet 差異分析
A1: 項目 | B1: 入力値・計算結果
A2: 固定製造間接費予算 | B2: 3000000 | C2: ← 薄緑：入力セル
A3: 基準操業度 | B3: 1000
A4: 実際発生額 | B4: 3200000
A5: 実際生産量の標準時間 | B5: 800
A7: 予定配賦率 | B7: =IFERROR(B2/B3,0) -> 3000 | C7: ← 薄青：計算セル
A8: 予定配賦額 | B8: =B7*B5 -> 2400000
A9: 予算差異 | B9: =B4-B2 -> 200000 | C9: プラス：不利差異
A10: 操業度差異 | B10: =B2-B8 -> 600000 | C10: マイナス：有利差異
A11: 差異合計 | B11: =B9+B10 -> 800000
A12: 差額チェック | B12: =B4-B8-B11 -> 0 | C12: 0なら検算OK

Sheet シュラッター図
A1: シュラッター図｜固定製造間接費（数値連動）
A3: 操業時間 | B3: 固定費予算 | C3: 実際発生額 | D3: 予定配賦額
A4: 0 | B4: =差異分析!$B$2 -> 3000000 | C4: =差異分析!$B$4 -> 3200000 | D4: =差異分析!$B$7*A4 -> 0
A5: 200 | B5: =差異分析!$B$2 -> 3000000 | C5: =差異分析!$B$4 -> 3200000 | D5: =差異分析!$B$7*A5 -> 600000
A6: 400 | B6: =差異分析!$B$2 -> 3000000 | C6: =差異分析!$B$4 -> 3200000 | D6: =差異分析!$B$7*A6 -> 1200000
A7: 600 | B7: =差異分析!$B$2 -> 3000000 | C7: =差異分析!$B$4 -> 3200000 | D7: =差異分析!$B$7*A7 -> 1800000
A8: 800 | B8: =差異分析!$B$2 -> 3000000 | C8: =差異分析!$B$4 -> 3200000 | D8: =差異分析!$B$7*A8 -> 2400000
A9: 1000 | B9: =差異分析!$B$2 -> 3000000 | C9: =差異分析!$B$4 -> 3200000 | D9: =差異分析!$B$7*A9 -> 3000000
A12: 予算差異 | B12: =差異分析!B9 -> 200000
A13: 操業度差異 | B13: =差異分析!B10 -> 600000
A14: 差異合計 | B14: =差異分析!B11 -> 800000
A16: 800時間時点：実際発生額と固定費予算の差が予算差異、固定費予算と予定配賦額の差が操業度差異。

Sheet 予算データ
A1: 年月 | B1: 部門コード | C1: 固定費予算 | D1: 基準操業度
A2: 2026-01 | B2: 製造1課 | C2: 3000000 | D2: 1000
A3: 2026-01 | B3: 製造2課 | C3: 3350000 | D3: 1100
A4: 2026-01 | B4: 組立課 | C4: 3700000 | D4: 1200
A5: 2026-02 | B5: 製造1課 | C5: 3050000 | D5: 1000
A6: 2026-02 | B6: 製造2課 | C6: 3400000 | D6: 1100
A7: 2026-02 | B7: 組立課 | C7: 3750000 | D7: 1200
A8: 2026-03 | B8: 製造1課 | C8: 3100000 | D8: 1000
A9: 2026-03 | B9: 製造2課 | C9: 3450000 | D9: 1100
A10: 2026-03 | B10: 組立課 | C10: 3800000 | D10: 1200
A11: 2026-04 | B11: 製造1課 | C11: 3150000 | D11: 1000
A12: 2026-04 | B12: 製造2課 | C12: 3500000 | D12: 1100
A13: 2026-04 | B13: 組立課 | C13: 3850000 | D13: 1200
... A19: 2026-06 | B19: 組立課 | C19: 3950000 | D19: 1200

Sheet 実績データ
A1: 年月 | B1: 部門コード | C1: 実際発生額
A2: 2026-01 | B2: 製造1課 | C2: 3200000
A3: 2026-01 | B3: 製造2課 | C3: 3465000
A4: 2026-01 | B4: 組立課 | C4: 3560000
A5: 2026-02 | B5: 製造1課 | C5: 3150000
A6: 2026-02 | B6: 製造2課 | C6: 3275000
A7: 2026-02 | B7: 組立課 | C7: 3900000
A8: 2026-03 | B8: 製造1課 | C8: 2990000
A9: 2026-03 | B9: 製造2課 | C9: 3585000
A10: 2026-03 | B10: 組立課 | C10: 3640000
A11: 2026-04 | B11: 製造1課 | C11: 3270000
A12: 2026-04 | B12: 製造2課 | C12: 3355000
A13: 2026-04 | B13: 組立課 | C13: 4020000
... A19: 2026-06 | B19: 組立課 | C19: 4140000

Sheet 標準時間データ
A1: 年月 | B1: 部門コード | C1: 標準時間
A2: 2026-01 | B2: 製造1課 | C2: 800
A3: 2026-01 | B3: 製造2課 | C3: 950
A4: 2026-01 | B4: 組立課 | C4: 995
A5: 2026-02 | B5: 製造1課 | C5: 850
A6: 2026-02 | B6: 製造2課 | C6: 895
A7: 2026-02 | B7: 組立課 | C7: 1160
A8: 2026-03 | B8: 製造1課 | C8: 795
A9: 2026-03 | B9: 製造2課 | C9: 1060
A10: 2026-03 | B10: 組立課 | C10: 1105
A11: 2026-04 | B11: 製造1課 | C11: 960
A12: 2026-04 | B12: 製造2課 | C12: 1005
A13: 2026-04 | B13: 組立課 | C13: 1050
... A19: 2026-06 | B19: 組立課 | C19: 1160

Sheet 期待結果
A1: 年月 | B1: 部門コード | C1: 固定費予算 | D1: 基準操業度 | E1: 実際発生額 | F1: 標準時間 | G1: データチェック | H1: 予定配賦率 | I1: 予定配賦額 | J1: 予算差異 | K1: 操業度差異 | L1: 差異合計 | M1: 差額チェック
A2: 2026-01 | B2: 組立課 | C2: 3700000 | D2: 1200 | E2: 3560000 | F2: 995 | G2: OK | H2: 3083.3333 | I2: 3067916.7 | J2: -140000 | K2: 632083.33 | L2: 492083.33 | M2: 0
A3: 2026-01 | B3: 製造1課 | C3: 3000000 | D3: 1000 | E3: 3200000 | F3: 800 | G3: OK | H3: 3000 | I3: 2400000 | J3: 200000 | K3: 600000 | L3: 800000 | M3: 0
A4: 2026-01 | B4: 製造2課 | C4: 3350000 | D4: 1100 | E4: 3465000 | F4: 950 | G4: OK | H4: 3045.4545 | I4: 2893181.8 | J4: 115000 | K4: 456818.18 | L4: 571818.18 | M4: 0
A5: 2026-02 | B5: 組立課 | C5: 3750000 | D5: 1200 | E5: 3900000 | F5: 1160 | G5: OK | H5: 3125 | I5: 3625000 | J5: 150000 | K5: 125000 | L5: 275000 | M5: 0
A6: 2026-02 | B6: 製造1課 | C6: 3050000 | D6: 1000 | E6: 3150000 | F6: 850 | G6: OK | H6: 3050 | I6: 2592500 | J6: 100000 | K6: 457500 | L6: 557500 | M6: 0
A7: 2026-02 | B7: 製造2課 | C7: 3400000 | D7: 1100 | E7: 3275000 | F7: 895 | G7: OK | H7: 3090.9091 | I7: 2766363.6 | J7: -125000 | K7: 633636.36 | L7: 508636.36 | M7: 0
A8: 2026-03 | B8: 組立課 | C8: 3800000 | D8: 1200 | E8: 3640000 | F8: 1105 | G8: OK | H8: 3166.6667 | I8: 3499166.7 | J8: -160000 | K8: 300833.33 | L8: 140833.33 | M8: 0
A9: 2026-03 | B9: 製造1課 | C9: 3100000 | D9: 1000 | E9: 2990000 | F9: 795 | G9: OK | H9: 3100 | I9: 2464500 | J9: -110000 | K9: 635500 | L9: 525500 | M9: 0
A10: 2026-03 | B10: 製造2課 | C10: 3450000 | D10: 1100 | E10: 3585000 | F10: 1060 | G10: OK | H10: 3136.3636 | I10: 3324545.5 | J10: 135000 | K10: 125454.55 | L10: 260454.55 | M10: 0
A11: 2026-04 | B11: 組立課 | C11: 3850000 | D11: 1200 | E11: 4020000 | F11: 1050 | G11: OK | H11: 3208.3333 | I11: 3368750 | J11: 170000 | K11: 481250 | L11: 651250 | M11: 0
A12: 2026-04 | B12: 製造1課 | C12: 3150000 | D12: 1000 | E12: 3270000 | F12: 960 | G12: OK | H12: 3150 | I12: 3024000 | J12: 120000 | K12: 126000 | L12: 246000 | M12: 0
A13: 2026-04 | B13: 製造2課 | C13: 3500000 | D13: 1100 | E13: 3355000 | F13: 1005 | G13: OK | H13: 3181.8182 | I13: 3197727.3 | J13: -145000 | K13: 302272.73 | L13: 157272.73 | M13: 0
... A19: 2026-06 | B19: 製造2課 | C19: 3600000 | D19: 1100 | E19: 3435000 | F19: 895 | G19: OK | H19: 3272.7273 | I19: 2929090.9 | J19: -165000 | K19: 670909.09 | L19: 505909.09 | M19: 0

Sheet 分析ダッシュボード
B2: 製造間接費 ｜ EXECUTIVE VARIANCE DASHBOARD | AA2: X（時間） | AB2: 固定費予算（万円） | AC2: 予定配賦額（万円） | AD2: 実際発生額（万円） | AE2: X標準時間 | AF2: Y予定配賦額 | AG2: X基準操業度
W3: x（時間） | X3: 予算（万円） | Y3: 配賦（万円） | Z3: 実際X（時間） | AA3: =0 -> 0 | AB3: =$Y$7/10000 -> 300 | AC3: =0 -> 0 | AD3: =$Y$9/10000 -> 320 | AE3: =$Y$10 -> 800 | AF3: =$Y$12/10000 -> 240 | AG3: =$Y$8 -> 1000
B4: 対象月 | C4: 46023 | E4: 対象部門 | F4: 製造1課 | I4: 単位：万円／時間 ｜ 固定製造間接費のみ | W4: =0 -> 0 | X4: =$C$7/10000 -> 300 | Y4: =0 -> 0 | Z4: =$C$10 -> 0 | AA4: =$Y$8 -> 1000 | AB4: =$Y$7/10000 -> 300 | AC4: =$Y$7/10000 -> 300 | AD4: =$Y$9/10000 -> 320
W5: =$C$8 -> 1000 | X5: =$C$7/10000 -> 300 | Y5: =$C$7/10000 -> 300 | AB5: =$C$10 -> 0 | AC5: =$C$9/10000 -> 320 | AD5: =$C$7/10000 -> 300
B7: 予算差異（万円） | C7: =SUMIFS(期待結果!$C$2:$C$19,期待結果!$A$2:$A$19,$C$4,期待結果!$B$2:$B$19,$F$4) -> 3000000 | H7: 操業度差異（万円） | N7: 差異合計（万円） | X7: 固定費予算 | Y7: =SUMIFS(期待結果!$C$2:$C$19,期待結果!$A$2:$A$19,$C$4,期待結果!$B$2:$B$19,$F$4) -> 3000000
B8: =Y13/10000 -> 20 | C8: =SUMIFS(期待結果!$D$2:$D$19,期待結果!$A$2:$A$19,$C$4,期待結果!$B$2:$B$19,$F$4) -> 1000 | H8: =Y14/10000 -> 60 | N8: =Y15/10000 -> 80 | X8: 基準操業度 | Y8: =SUMIFS(期待結果!$D$2:$D$19,期待結果!$A$2:$A$19,$C$4,期待結果!$B$2:$B$19,$F$4) -> 1000
B9: 実際発生額 | C9: =SUMIFS(期待結果!$E$2:$E$19,期待結果!$A$2:$A$19,$C$4,期待結果!$B$2:$B$19,$F$4) -> 3200000 | X9: 実際発生額 | Y9: =SUMIFS(期待結果!$E$2:$E$19,期待結果!$A$2:$A$19,$C$4,期待結果!$B$2:$B$19,$F$4) -> 3200000
X10: 標準時間 | Y10: =SUMIFS(期待結果!$F$2:$F$19,期待結果!$A$2:$A$19,$C$4,期待結果!$B$2:$B$19,$F$4) -> 800
B11: 固定費予算・実際発生額・予定配賦額｜動的シュラッター図 | X11: 予定配賦率 | Y11: =SUMIFS(期待結果!$H$2:$H$19,期待結果!$A$2:$A$19,$C$4,期待結果!$B$2:$B$19,$F$4) -> 3000
X12: 予定配賦額 | Y12: =SUMIFS(期待結果!$I$2:$I$19,期待結果!$A$2:$A$19,$C$4,期待結果!$B$2:$B$19,$F$4) -> 2400000
X13: 予算差異 | Y13: =SUMIFS(期待結果!$J$2:$J$19,期待結果!$A$2:$A$19,$C$4,期待結果!$B$2:$B$19,$F$4) -> 200000
X14: 操業度差異 | Y14: =SUMIFS(期待結果!$K$2:$K$19,期待結果!$A$2:$A$19,$C$4,期待結果!$B$2:$B$19,$F$4) -> 600000
X15: 差異合計 | Y15: =SUMIFS(期待結果!$L$2:$L$19,期待結果!$A$2:$A$19,$C$4,期待結果!$B$2:$B$19,$F$4) -> 800000
X16: 差額チェック | Y16: =SUMIFS(期待結果!$M$2:$M$19,期待結果!$A$2:$A$19,$C$4,期待結果!$B$2:$B$19,$F$4) -> 0
B18: 差異の読み方
B19: ="① 予算差異："&TEXT(ABS(Y13)/10000,"0.0")&"万円（"&IF(Y13>0,"不利",IF(Y13<0,"有利","なし"))&"） 実績と予算の差額" -> ① 予算差異：20.0万円（不利） 実績と予算の差額
B22: ="② 操業度差異："&TEXT(ABS(Y14)/10000,"0.0")&"万円（"&IF(Y14>0,"不利",IF(Y14<0,"有利","なし"))&"） 基準操業度からの変化" -> ② 操業度差異：60.0万円（不利） 基準操業度からの変化
B25: ="③ 全体差異："&TEXT(ABS(Y15)/10000,"0.0")&"万円（"&IF(Y15>0,"不利",IF(Y15<0,"有利","なし"))&"） 上記2要因の合計" -> ③ 全体差異：80.0万円（不利） 上記2要因の合計
B29: ="経営上の示唆："&IF(ABS(Y14)>ABS(Y13),"操業度の影響が大きいため、受注・稼働計画や基準操業度を優先確認。","費用予算の差が相対的に大きいため、費目別の増減を優先確認。") -> 経営上の示唆：操業度の影響が大きいため、受注・稼働計画や基準操業度を優先確認。
B34: ="REPORTING NOTE | 固定製造間接費のみの簡略モデル • 検算 "&IF(ABS(Y16)<0.01,"OK","要確認")&" • プラス差異＝不利 / マイナス差異＝有利" -> REPORTING NOTE | 固定製造間接費のみの簡略モデル • 検算 OK • プラス差異＝不利 / マイナス差異＝有利
