Workbook

Sheet 分析ダッシュボード
A1: 原価差異分析ダッシュボード | 2026
A4: 対象工場 | B4: 東京工場 | D4: 対象月 | E4: 2026-02
A6: 当月 原価差異 合計 | E6: 材料費差異 | I6: 労務費差異 | L6: 製造間接費差異
A7: =SUMIFS($E$20:$E$31,$A$20:$A$31,$E$4) -> 257998 | E7: =SUMIFS($B$20:$B$31,$A$20:$A$31,$E$4) -> 3038 | I7: =SUMIFS($C$20:$C$31,$A$20:$A$31,$E$4) -> -14040 | L7: =SUMIFS($D$20:$D$31,$A$20:$A$31,$E$4) -> 269000
A11: 月別原価差異の推移（プラス＝不利、マイナス＝有利） | I11: 当月の内訳
A19: 年月 | B19: 材料費差異(円) | C19: 労務費差異(円) | D19: 製造間接費差異(円) | E19: 差異合計(円) | I19: 費目 | J19: 差異額
A20: 2026-01 | B20: =IF($B$4="全工場",SUMIFS(差異集計!$C$5:$C$40,差異集計!$A$5:$A$40,$A20),SUMIFS(差異集計!$C$5:$C$40,差異集計!$A$5:$A$40,$A20,差異集計!$B$5:$B$40,$B$4))+IF($B$4="全工場",SUMIFS(差異集計!$D$5:$D$40,差異集計!$A$5:$A$40,$A20),SUMIFS(差異集計!$D$5:$D$40,差異集計!$A$5:$A$40,$A20,差異集計!$B$5:$B$40,$B$4)) -> -7214 | C20: =IF($B$4="全工場",SUMIFS(差異集計!$E$5:$E$40,差異集計!$A$5:$A$40,$A20),SUMIFS(差異集計!$E$5:$E$40,差異集計!$A$5:$A$40,$A20,差異集計!$B$5:$B$40,$B$4))+IF($B$4="全工場",SUMIFS(差異集計!$F$5:$F$40,差異集計!$A$5:$A$40,$A20),SUMIFS(差異集計!$F$5:$F$40,差異集計!$A$5:$A$40,$A20,差異集計!$B$5:$B$40,$B$4)) -> 170860 | D20: =IF($B$4="全工場",SUMIFS(差異集計!$G$5:$G$40,差異集計!$A$5:$A$40,$A20),SUMIFS(差異集計!$G$5:$G$40,差異集計!$A$5:$A$40,$A20,差異集計!$B$5:$B$40,$B$4))+IF($B$4="全工場",SUMIFS(差異集計!$H$5:$H$40,差異集計!$A$5:$A$40,$A20),SUMIFS(差異集計!$H$5:$H$40,差異集計!$A$5:$A$40,$A20,差異集計!$B$5:$B$40,$B$4)) -> 599000 | E20: =SUM(B20:D20) -> 762646 | I20: 材料費 | J20: =E7 -> 3038
A21: 2026-02 | B21: =IF($B$4="全工場",SUMIFS(差異集計!$C$5:$C$40,差異集計!$A$5:$A$40,$A21),SUMIFS(差異集計!$C$5:$C$40,差異集計!$A$5:$A$40,$A21,差異集計!$B$5:$B$40,$B$4))+IF($B$4="全工場",SUMIFS(差異集計!$D$5:$D$40,差異集計!$A$5:$A$40,$A21),SUMIFS(差異集計!$D$5:$D$40,差異集計!$A$5:$A$40,$A21,差異集計!$B$5:$B$40,$B$4)) -> 3038 | C21: =IF($B$4="全工場",SUMIFS(差異集計!$E$5:$E$40,差異集計!$A$5:$A$40,$A21),SUMIFS(差異集計!$E$5:$E$40,差異集計!$A$5:$A$40,$A21,差異集計!$B$5:$B$40,$B$4))+IF($B$4="全工場",SUMIFS(差異集計!$F$5:$F$40,差異集計!$A$5:$A$40,$A21),SUMIFS(差異集計!$F$5:$F$40,差異集計!$A$5:$A$40,$A21,差異集計!$B$5:$B$40,$B$4)) -> -14040 | D21: =IF($B$4="全工場",SUMIFS(差異集計!$G$5:$G$40,差異集計!$A$5:$A$40,$A21),SUMIFS(差異集計!$G$5:$G$40,差異集計!$A$5:$A$40,$A21,差異集計!$B$5:$B$40,$B$4))+IF($B$4="全工場",SUMIFS(差異集計!$H$5:$H$40,差異集計!$A$5:$A$40,$A21),SUMIFS(差異集計!$H$5:$H$40,差異集計!$A$5:$A$40,$A21,差異集計!$B$5:$B$40,$B$4)) -> 269000 | E21: =SUM(B21:D21) -> 257998 | I21: 労務費 | J21: =I7 -> -14040
A22: 2026-03 | B22: =IF($B$4="全工場",SUMIFS(差異集計!$C$5:$C$40,差異集計!$A$5:$A$40,$A22),SUMIFS(差異集計!$C$5:$C$40,差異集計!$A$5:$A$40,$A22,差異集計!$B$5:$B$40,$B$4))+IF($B$4="全工場",SUMIFS(差異集計!$D$5:$D$40,差異集計!$A$5:$A$40,$A22),SUMIFS(差異集計!$D$5:$D$40,差異集計!$A$5:$A$40,$A22,差異集計!$B$5:$B$40,$B$4)) -> 8893 | C22: =IF($B$4="全工場",SUMIFS(差異集計!$E$5:$E$40,差異集計!$A$5:$A$40,$A22),SUMIFS(差異集計!$E$5:$E$40,差異集計!$A$5:$A$40,$A22,差異集計!$B$5:$B$40,$B$4))+IF($B$4="全工場",SUMIFS(差異集計!$F$5:$F$40,差異集計!$A$5:$A$40,$A22),SUMIFS(差異集計!$F$5:$F$40,差異集計!$A$5:$A$40,$A22,差異集計!$B$5:$B$40,$B$4)) -> 172540 | D22: =IF($B$4="全工場",SUMIFS(差異集計!$G$5:$G$40,差異集計!$A$5:$A$40,$A22),SUMIFS(差異集計!$G$5:$G$40,差異集計!$A$5:$A$40,$A22,差異集計!$B$5:$B$40,$B$4))+IF($B$4="全工場",SUMIFS(差異集計!$H$5:$H$40,差異集計!$A$5:$A$40,$A22),SUMIFS(差異集計!$H$5:$H$40,差異集計!$A$5:$A$40,$A22,差異集計!$B$5:$B$40,$B$4)) -> 489000 | E22: =SUM(B22:D22) -> 670433 | I22: 製造間接費 | J22: =L7 -> 269000
A23: 2026-04 | B23: =IF($B$4="全工場",SUMIFS(差異集計!$C$5:$C$40,差異集計!$A$5:$A$40,$A23),SUMIFS(差異集計!$C$5:$C$40,差異集計!$A$5:$A$40,$A23,差異集計!$B$5:$B$40,$B$4))+IF($B$4="全工場",SUMIFS(差異集計!$D$5:$D$40,差異集計!$A$5:$A$40,$A23),SUMIFS(差異集計!$D$5:$D$40,差異集計!$A$5:$A$40,$A23,差異集計!$B$5:$B$40,$B$4)) -> 33116 | C23: =IF($B$4="全工場",SUMIFS(差異集計!$E$5:$E$40,差異集計!$A$5:$A$40,$A23),SUMIFS(差異集計!$E$5:$E$40,差異集計!$A$5:$A$40,$A23,差異集計!$B$5:$B$40,$B$4))+IF($B$4="全工場",SUMIFS(差異集計!$F$5:$F$40,差異集計!$A$5:$A$40,$A23),SUMIFS(差異集計!$F$5:$F$40,差異集計!$A$5:$A$40,$A23,差異集計!$B$5:$B$40,$B$4)) -> 80360 | D23: =IF($B$4="全工場",SUMIFS(差異集計!$G$5:$G$40,差異集計!$A$5:$A$40,$A23),SUMIFS(差異集計!$G$5:$G$40,差異集計!$A$5:$A$40,$A23,差異集計!$B$5:$B$40,$B$4))+IF($B$4="全工場",SUMIFS(差異集計!$H$5:$H$40,差異集計!$A$5:$A$40,$A23),SUMIFS(差異集計!$H$5:$H$40,差異集計!$A$5:$A$40,$A23,差異集計!$B$5:$B$40,$B$4)) -> 207000 | E23: =SUM(B23:D23) -> 320476
A24: 2026-05 | B24: =IF($B$4="全工場",SUMIFS(差異集計!$C$5:$C$40,差異集計!$A$5:$A$40,$A24),SUMIFS(差異集計!$C$5:$C$40,差異集計!$A$5:$A$40,$A24,差異集計!$B$5:$B$40,$B$4))+IF($B$4="全工場",SUMIFS(差異集計!$D$5:$D$40,差異集計!$A$5:$A$40,$A24),SUMIFS(差異集計!$D$5:$D$40,差異集計!$A$5:$A$40,$A24,差異集計!$B$5:$B$40,$B$4)) -> 53315 | C24: =IF($B$4="全工場",SUMIFS(差異集計!$E$5:$E$40,差異集計!$A$5:$A$40,$A24),SUMIFS(差異集計!$E$5:$E$40,差異集計!$A$5:$A$40,$A24,差異集計!$B$5:$B$40,$B$4))+IF($B$4="全工場",SUMIFS(差異集計!$F$5:$F$40,差異集計!$A$5:$A$40,$A24),SUMIFS(差異集計!$F$5:$F$40,差異集計!$A$5:$A$40,$A24,差異集計!$B$5:$B$40,$B$4)) -> -15120 | D24: =IF($B$4="全工場",SUMIFS(差異集計!$G$5:$G$40,差異集計!$A$5:$A$40,$A24),SUMIFS(差異集計!$G$5:$G$40,差異集計!$A$5:$A$40,$A24,差異集計!$B$5:$B$40,$B$4))+IF($B$4="全工場",SUMIFS(差異集計!$H$5:$H$40,差異集計!$A$5:$A$40,$A24),SUMIFS(差異集計!$H$5:$H$40,差異集計!$A$5:$A$40,$A24,差異集計!$B$5:$B$40,$B$4)) -> -123000 | E24: =SUM(B24:D24) -> -84805 | I24: 検算（全データ）
A25: 2026-06 | B25: =IF($B$4="全工場",SUMIFS(差異集計!$C$5:$C$40,差異集計!$A$5:$A$40,$A25),SUMIFS(差異集計!$C$5:$C$40,差異集計!$A$5:$A$40,$A25,差異集計!$B$5:$B$40,$B$4))+IF($B$4="全工場",SUMIFS(差異集計!$D$5:$D$40,差異集計!$A$5:$A$40,$A25),SUMIFS(差異集計!$D$5:$D$40,差異集計!$A$5:$A$40,$A25,差異集計!$B$5:$B$40,$B$4)) -> 2674 | C25: =IF($B$4="全工場",SUMIFS(差異集計!$E$5:$E$40,差異集計!$A$5:$A$40,$A25),SUMIFS(差異集計!$E$5:$E$40,差異集計!$A$5:$A$40,$A25,差異集計!$B$5:$B$40,$B$4))+IF($B$4="全工場",SUMIFS(差異集計!$F$5:$F$40,差異集計!$A$5:$A$40,$A25),SUMIFS(差異集計!$F$5:$F$40,差異集計!$A$5:$A$40,$A25,差異集計!$B$5:$B$40,$B$4)) -> -89110 | D25: =IF($B$4="全工場",SUMIFS(差異集計!$G$5:$G$40,差異集計!$A$5:$A$40,$A25),SUMIFS(差異集計!$G$5:$G$40,差異集計!$A$5:$A$40,$A25,差異集計!$B$5:$B$40,$B$4))+IF($B$4="全工場",SUMIFS(差異集計!$H$5:$H$40,差異集計!$A$5:$A$40,$A25),SUMIFS(差異集計!$H$5:$H$40,差異集計!$A$5:$A$40,$A25,差異集計!$B$5:$B$40,$B$4)) -> 349000 | E25: =SUM(B25:D25) -> 262564 | I25: =SUM(差異集計!J5:J40) -> 0
A26: 2026-07 | B26: =IF($B$4="全工場",SUMIFS(差異集計!$C$5:$C$40,差異集計!$A$5:$A$40,$A26),SUMIFS(差異集計!$C$5:$C$40,差異集計!$A$5:$A$40,$A26,差異集計!$B$5:$B$40,$B$4))+IF($B$4="全工場",SUMIFS(差異集計!$D$5:$D$40,差異集計!$A$5:$A$40,$A26),SUMIFS(差異集計!$D$5:$D$40,差異集計!$A$5:$A$40,$A26,差異集計!$B$5:$B$40,$B$4)) -> 33863 | C26: =IF($B$4="全工場",SUMIFS(差異集計!$E$5:$E$40,差異集計!$A$5:$A$40,$A26),SUMIFS(差異集計!$E$5:$E$40,差異集計!$A$5:$A$40,$A26,差異集計!$B$5:$B$40,$B$4))+IF($B$4="全工場",SUMIFS(差異集計!$F$5:$F$40,差異集計!$A$5:$A$40,$A26),SUMIFS(差異集計!$F$5:$F$40,差異集計!$A$5:$A$40,$A26,差異集計!$B$5:$B$40,$B$4)) -> 35900 | D26: =IF($B$4="全工場",SUMIFS(差異集計!$G$5:$G$40,差異集計!$A$5:$A$40,$A26),SUMIFS(差異集計!$G$5:$G$40,差異集計!$A$5:$A$40,$A26,差異集計!$B$5:$B$40,$B$4))+IF($B$4="全工場",SUMIFS(差異集計!$H$5:$H$40,差異集計!$A$5:$A$40,$A26),SUMIFS(差異集計!$H$5:$H$40,差異集計!$A$5:$A$40,$A26,差異集計!$B$5:$B$40,$B$4)) -> -123000 | E26: =SUM(B26:D26) -> -53237 | I26: 0なら整合性OK
A27: 2026-08 | B27: =IF($B$4="全工場",SUMIFS(差異集計!$C$5:$C$40,差異集計!$A$5:$A$40,$A27),SUMIFS(差異集計!$C$5:$C$40,差異集計!$A$5:$A$40,$A27,差異集計!$B$5:$B$40,$B$4))+IF($B$4="全工場",SUMIFS(差異集計!$D$5:$D$40,差異集計!$A$5:$A$40,$A27),SUMIFS(差異集計!$D$5:$D$40,差異集計!$A$5:$A$40,$A27,差異集計!$B$5:$B$40,$B$4)) -> 20773 | C27: =IF($B$4="全工場",SUMIFS(差異集計!$E$5:$E$40,差異集計!$A$5:$A$40,$A27),SUMIFS(差異集計!$E$5:$E$40,差異集計!$A$5:$A$40,$A27,差異集計!$B$5:$B$40,$B$4))+IF($B$4="全工場",SUMIFS(差異集計!$F$5:$F$40,差異集計!$A$5:$A$40,$A27),SUMIFS(差異集計!$F$5:$F$40,差異集計!$A$5:$A$40,$A27,差異集計!$B$5:$B$40,$B$4)) -> 119800 | D27: =IF($B$4="全工場",SUMIFS(差異集計!$G$5:$G$40,差異集計!$A$5:$A$40,$A27),SUMIFS(差異集計!$G$5:$G$40,差異集計!$A$5:$A$40,$A27,差異集計!$B$5:$B$40,$B$4))+IF($B$4="全工場",SUMIFS(差異集計!$H$5:$H$40,差異集計!$A$5:$A$40,$A27),SUMIFS(差異集計!$H$5:$H$40,差異集計!$A$5:$A$40,$A27,差異集計!$B$5:$B$40,$B$4)) -> 459000 | E27: =SUM(B27:D27) -> 599573
A28: 2026-09 | B28: =IF($B$4="全工場",SUMIFS(差異集計!$C$5:$C$40,差異集計!$A$5:$A$40,$A28),SUMIFS(差異集計!$C$5:$C$40,差異集計!$A$5:$A$40,$A28,差異集計!$B$5:$B$40,$B$4))+IF($B$4="全工場",SUMIFS(差異集計!$D$5:$D$40,差異集計!$A$5:$A$40,$A28),SUMIFS(差異集計!$D$5:$D$40,差異集計!$A$5:$A$40,$A28,差異集計!$B$5:$B$40,$B$4)) -> 7049 | C28: =IF($B$4="全工場",SUMIFS(差異集計!$E$5:$E$40,差異集計!$A$5:$A$40,$A28),SUMIFS(差異集計!$E$5:$E$40,差異集計!$A$5:$A$40,$A28,差異集計!$B$5:$B$40,$B$4))+IF($B$4="全工場",SUMIFS(差異集計!$F$5:$F$40,差異集計!$A$5:$A$40,$A28),SUMIFS(差異集計!$F$5:$F$40,差異集計!$A$5:$A$40,$A28,差異集計!$B$5:$B$40,$B$4)) -> 35180 | D28: =IF($B$4="全工場",SUMIFS(差異集計!$G$5:$G$40,差異集計!$A$5:$A$40,$A28),SUMIFS(差異集計!$G$5:$G$40,差異集計!$A$5:$A$40,$A28,差異集計!$B$5:$B$40,$B$4))+IF($B$4="全工場",SUMIFS(差異集計!$H$5:$H$40,差異集計!$A$5:$A$40,$A28),SUMIFS(差異集計!$H$5:$H$40,差異集計!$A$5:$A$40,$A28,差異集計!$B$5:$B$40,$B$4)) -> 349000 | E28: =SUM(B28:D28) -> 391229
A29: 2026-10 | B29: =IF($B$4="全工場",SUMIFS(差異集計!$C$5:$C$40,差異集計!$A$5:$A$40,$A29),SUMIFS(差異集計!$C$5:$C$40,差異集計!$A$5:$A$40,$A29,差異集計!$B$5:$B$40,$B$4))+IF($B$4="全工場",SUMIFS(差異集計!$D$5:$D$40,差異集計!$A$5:$A$40,$A29),SUMIFS(差異集計!$D$5:$D$40,差異集計!$A$5:$A$40,$A29,差異集計!$B$5:$B$40,$B$4)) -> -23870 | C29: =IF($B$4="全工場",SUMIFS(差異集計!$E$5:$E$40,差異集計!$A$5:$A$40,$A29),SUMIFS(差異集計!$E$5:$E$40,差異集計!$A$5:$A$40,$A29,差異集計!$B$5:$B$40,$B$4))+IF($B$4="全工場",SUMIFS(差異集計!$F$5:$F$40,差異集計!$A$5:$A$40,$A29),SUMIFS(差異集計!$F$5:$F$40,差異集計!$A$5:$A$40,$A29,差異集計!$B$5:$B$40,$B$4)) -> 40450 | D29: =IF($B$4="全工場",SUMIFS(差異集計!$G$5:$G$40,差異集計!$A$5:$A$40,$A29),SUMIFS(差異集計!$G$5:$G$40,差異集計!$A$5:$A$40,$A29,差異集計!$B$5:$B$40,$B$4))+IF($B$4="全工場",SUMIFS(差異集計!$H$5:$H$40,差異集計!$A$5:$A$40,$A29),SUMIFS(差異集計!$H$5:$H$40,差異集計!$A$5:$A$40,$A29,差異集計!$B$5:$B$40,$B$4)) -> 207000 | E29: =SUM(B29:D29) -> 223580
A30: 2026-11 | B30: =IF($B$4="全工場",SUMIFS(差異集計!$C$5:$C$40,差異集計!$A$5:$A$40,$A30),SUMIFS(差異集計!$C$5:$C$40,差異集計!$A$5:$A$40,$A30,差異集計!$B$5:$B$40,$B$4))+IF($B$4="全工場",SUMIFS(差異集計!$D$5:$D$40,差異集計!$A$5:$A$40,$A30),SUMIFS(差異集計!$D$5:$D$40,差異集計!$A$5:$A$40,$A30,差異集計!$B$5:$B$40,$B$4)) -> 47647 | C30: =IF($B$4="全工場",SUMIFS(差異集計!$E$5:$E$40,差異集計!$A$5:$A$40,$A30),SUMIFS(差異集計!$E$5:$E$40,差異集計!$A$5:$A$40,$A30,差異集計!$B$5:$B$40,$B$4))+IF($B$4="全工場",SUMIFS(差異集計!$F$5:$F$40,差異集計!$A$5:$A$40,$A30),SUMIFS(差異集計!$F$5:$F$40,差異集計!$A$5:$A$40,$A30,差異集計!$B$5:$B$40,$B$4)) -> 83930 | D30: =IF($B$4="全工場",SUMIFS(差異集計!$G$5:$G$40,差異集計!$A$5:$A$40,$A30),SUMIFS(差異集計!$G$5:$G$40,差異集計!$A$5:$A$40,$A30,差異集計!$B$5:$B$40,$B$4))+IF($B$4="全工場",SUMIFS(差異集計!$H$5:$H$40,差異集計!$A$5:$A$40,$A30),SUMIFS(差異集計!$H$5:$H$40,差異集計!$A$5:$A$40,$A30,差異集計!$B$5:$B$40,$B$4)) -> 489000 | E30: =SUM(B30:D30) -> 620577
A31: 2026-12 | B31: =IF($B$4="全工場",SUMIFS(差異集計!$C$5:$C$40,差異集計!$A$5:$A$40,$A31),SUMIFS(差異集計!$C$5:$C$40,差異集計!$A$5:$A$40,$A31,差異集計!$B$5:$B$40,$B$4))+IF($B$4="全工場",SUMIFS(差異集計!$D$5:$D$40,差異集計!$A$5:$A$40,$A31),SUMIFS(差異集計!$D$5:$D$40,差異集計!$A$5:$A$40,$A31,差異集計!$B$5:$B$40,$B$4)) -> 1968 | C31: =IF($B$4="全工場",SUMIFS(差異集計!$E$5:$E$40,差異集計!$A$5:$A$40,$A31),SUMIFS(差異集計!$E$5:$E$40,差異集計!$A$5:$A$40,$A31,差異集計!$B$5:$B$40,$B$4))+IF($B$4="全工場",SUMIFS(差異集計!$F$5:$F$40,差異集計!$A$5:$A$40,$A31),SUMIFS(差異集計!$F$5:$F$40,差異集計!$A$5:$A$40,$A31,差異集計!$B$5:$B$40,$B$4)) -> 123160 | D31: =IF($B$4="全工場",SUMIFS(差異集計!$G$5:$G$40,差異集計!$A$5:$A$40,$A31),SUMIFS(差異集計!$G$5:$G$40,差異集計!$A$5:$A$40,$A31,差異集計!$B$5:$B$40,$B$4))+IF($B$4="全工場",SUMIFS(差異集計!$H$5:$H$40,差異集計!$A$5:$A$40,$A31),SUMIFS(差異集計!$H$5:$H$40,差異集計!$A$5:$A$40,$A31,差異集計!$B$5:$B$40,$B$4)) -> 459000 | E31: =SUM(B31:D31) -> 584128

Sheet 差異集計
A1: 統合原価差異｜月別・工場別集計
A4: 年月 | B4: 工場 | C4: 材料価格差異 | D4: 材料数量差異 | E4: 労務賃率差異 | F4: 労務時間差異 | G4: 間接費予算差異 | H4: 間接費操業度差異 | I4: 差異合計 | J4: 検算合計
A5: 2026-01 | B5: 東京工場 | C5: =SUMIFS(材料費!$G$5:$G$40,材料費!$A$5:$A$40,$A5,材料費!$B$5:$B$40,$B5) -> -16794 | D5: =SUMIFS(材料費!$H$5:$H$40,材料費!$A$5:$A$40,$A5,材料費!$B$5:$B$40,$B5) -> 9580 | E5: =SUMIFS(労務費!$G$5:$G$40,労務費!$A$5:$A$40,$A5,労務費!$B$5:$B$40,$B5) -> 92960 | F5: =SUMIFS(労務費!$H$5:$H$40,労務費!$A$5:$A$40,$A5,労務費!$B$5:$B$40,$B5) -> 77900 | G5: =SUMIFS(製造間接費!$H$5:$H$40,製造間接費!$A$5:$A$40,$A5,製造間接費!$B$5:$B$40,$B5) -> 235000 | H5: =SUMIFS(製造間接費!$I$5:$I$40,製造間接費!$A$5:$A$40,$A5,製造間接費!$B$5:$B$40,$B5) -> 364000 | I5: =SUM(C5:H5) -> 762646 | J5: =SUMIFS(材料費!$J$5:$J$40,材料費!$A$5:$A$40,A5,材料費!$B$5:$B$40,B5)+SUMIFS(労務費!$J$5:$J$40,労務費!$A$5:$A$40,A5,労務費!$B$5:$B$40,B5)+SUMIFS(製造間接費!$K$5:$K$40,製造間接費!$A$5:$A$40,A5,製造間接費!$B$5:$B$40,B5) -> 0
A6: 2026-01 | B6: 関西工場 | C6: =SUMIFS(材料費!$G$5:$G$40,材料費!$A$5:$A$40,$A6,材料費!$B$5:$B$40,$B6) -> -7441 | D6: =SUMIFS(材料費!$H$5:$H$40,材料費!$A$5:$A$40,$A6,材料費!$B$5:$B$40,$B6) -> 10280 | E6: =SUMIFS(労務費!$G$5:$G$40,労務費!$A$5:$A$40,$A6,労務費!$B$5:$B$40,$B6) -> 99120 | F6: =SUMIFS(労務費!$H$5:$H$40,労務費!$A$5:$A$40,$A6,労務費!$B$5:$B$40,$B6) -> 26040 | G6: =SUMIFS(製造間接費!$H$5:$H$40,製造間接費!$A$5:$A$40,$A6,製造間接費!$B$5:$B$40,$B6) -> 125000 | H6: =SUMIFS(製造間接費!$I$5:$I$40,製造間接費!$A$5:$A$40,$A6,製造間接費!$B$5:$B$40,$B6) -> 358620.69 | I6: =SUM(C6:H6) -> 611619.69 | J6: =SUMIFS(材料費!$J$5:$J$40,材料費!$A$5:$A$40,A6,材料費!$B$5:$B$40,B6)+SUMIFS(労務費!$J$5:$J$40,労務費!$A$5:$A$40,A6,労務費!$B$5:$B$40,B6)+SUMIFS(製造間接費!$K$5:$K$40,製造間接費!$A$5:$A$40,A6,製造間接費!$B$5:$B$40,B6) -> 0
A7: 2026-01 | B7: 九州工場 | C7: =SUMIFS(材料費!$G$5:$G$40,材料費!$A$5:$A$40,$A7,材料費!$B$5:$B$40,$B7) -> -8351 | D7: =SUMIFS(材料費!$H$5:$H$40,材料費!$A$5:$A$40,$A7,材料費!$B$5:$B$40,$B7) -> 10980 | E7: =SUMIFS(労務費!$G$5:$G$40,労務費!$A$5:$A$40,$A7,労務費!$B$5:$B$40,$B7) -> 62985 | F7: =SUMIFS(労務費!$H$5:$H$40,労務費!$A$5:$A$40,$A7,労務費!$B$5:$B$40,$B7) -> -57250 | G7: =SUMIFS(製造間接費!$H$5:$H$40,製造間接費!$A$5:$A$40,$A7,製造間接費!$B$5:$B$40,$B7) -> -95000 | H7: =SUMIFS(製造間接費!$I$5:$I$40,製造間接費!$A$5:$A$40,$A7,製造間接費!$B$5:$B$40,$B7) -> -27272.727 | I7: =SUM(C7:H7) -> -113908.73 | J7: =SUMIFS(材料費!$J$5:$J$40,材料費!$A$5:$A$40,A7,材料費!$B$5:$B$40,B7)+SUMIFS(労務費!$J$5:$J$40,労務費!$A$5:$A$40,A7,労務費!$B$5:$B$40,B7)+SUMIFS(製造間接費!$K$5:$K$40,製造間接費!$A$5:$A$40,A7,製造間接費!$B$5:$B$40,B7) -> 0
A8: 2026-02 | B8: 東京工場 | C8: =SUMIFS(材料費!$G$5:$G$40,材料費!$A$5:$A$40,$A8,材料費!$B$5:$B$40,$B8) -> -6622 | D8: =SUMIFS(材料費!$H$5:$H$40,材料費!$A$5:$A$40,$A8,材料費!$B$5:$B$40,$B8) -> 9660 | E8: =SUMIFS(労務費!$G$5:$G$40,労務費!$A$5:$A$40,$A8,労務費!$B$5:$B$40,$B8) -> -38640 | F8: =SUMIFS(労務費!$H$5:$H$40,労務費!$A$5:$A$40,$A8,労務費!$B$5:$B$40,$B8) -> 24600 | G8: =SUMIFS(製造間接費!$H$5:$H$40,製造間接費!$A$5:$A$40,$A8,製造間接費!$B$5:$B$40,$B8) -> -95000 | H8: =SUMIFS(製造間接費!$I$5:$I$40,製造間接費!$A$5:$A$40,$A8,製造間接費!$B$5:$B$40,$B8) -> 364000 | I8: =SUM(C8:H8) -> 257998 | J8: =SUMIFS(材料費!$J$5:$J$40,材料費!$A$5:$A$40,A8,材料費!$B$5:$B$40,B8)+SUMIFS(労務費!$J$5:$J$40,労務費!$A$5:$A$40,A8,労務費!$B$5:$B$40,B8)+SUMIFS(製造間接費!$K$5:$K$40,製造間接費!$A$5:$A$40,A8,製造間接費!$B$5:$B$40,B8) -> 0
A9: 2026-02 | B9: 関西工場 | C9: =SUMIFS(材料費!$G$5:$G$40,材料費!$A$5:$A$40,$A9,材料費!$B$5:$B$40,$B9) -> -20538 | D9: =SUMIFS(材料費!$H$5:$H$40,材料費!$A$5:$A$40,$A9,材料費!$B$5:$B$40,$B9) -> 44030 | E9: =SUMIFS(労務費!$G$5:$G$40,労務費!$A$5:$A$40,$A9,労務費!$B$5:$B$40,$B9) -> 62900 | F9: =SUMIFS(労務費!$H$5:$H$40,労務費!$A$5:$A$40,$A9,労務費!$B$5:$B$40,$B9) -> 82460 | G9: =SUMIFS(製造間接費!$H$5:$H$40,製造間接費!$A$5:$A$40,$A9,製造間接費!$B$5:$B$40,$B9) -> -95000 | H9: =SUMIFS(製造間接費!$I$5:$I$40,製造間接費!$A$5:$A$40,$A9,製造間接費!$B$5:$B$40,$B9) -> 358620.69 | I9: =SUM(C9:H9) -> 432472.69 | J9: =SUMIFS(材料費!$J$5:$J$40,材料費!$A$5:$A$40,A9,材料費!$B$5:$B$40,B9)+SUMIFS(労務費!$J$5:$J$40,労務費!$A$5:$A$40,A9,労務費!$B$5:$B$40,B9)+SUMIFS(製造間接費!$K$5:$K$40,製造間接費!$A$5:$A$40,A9,製造間接費!$B$5:$B$40,B9) -> 0
A10: 2026-02 | B10: 九州工場 | C10: =SUMIFS(材料費!$G$5:$G$40,材料費!$A$5:$A$40,$A10,材料費!$B$5:$B$40,$B10) -> 14472 | D10: =SUMIFS(材料費!$H$5:$H$40,材料費!$A$5:$A$40,$A10,材料費!$B$5:$B$40,$B10) -> 11060 | E10: =SUMIFS(労務費!$G$5:$G$40,労務費!$A$5:$A$40,$A10,労務費!$B$5:$B$40,$B10) -> 109760 | F10: =SUMIFS(労務費!$H$5:$H$40,労務費!$A$5:$A$40,$A10,労務費!$B$5:$B$40,$B10) -> 27480 | G10: =SUMIFS(製造間接費!$H$5:$H$40,製造間接費!$A$5:$A$40,$A10,製造間接費!$B$5:$B$40,$B10) -> -95000 | H10: =SUMIFS(製造間接費!$I$5:$I$40,製造間接費!$A$5:$A$40,$A10,製造間接費!$B$5:$B$40,$B10) -> 354545.45 | I10: =SUM(C10:H10) -> 422317.45 | J10: =SUMIFS(材料費!$J$5:$J$40,材料費!$A$5:$A$40,A10,材料費!$B$5:$B$40,B10)+SUMIFS(労務費!$J$5:$J$40,労務費!$A$5:$A$40,A10,労務費!$B$5:$B$40,B10)+SUMIFS(製造間接費!$K$5:$K$40,製造間接費!$A$5:$A$40,A10,製造間接費!$B$5:$B$40,B10) -> 0
A11: 2026-03 | B11: 東京工場 | C11: =SUMIFS(材料費!$G$5:$G$40,材料費!$A$5:$A$40,$A11,材料費!$B$5:$B$40,$B11) -> -17892 | D11: =SUMIFS(材料費!$H$5:$H$40,材料費!$A$5:$A$40,$A11,材料費!$B$5:$B$40,$B11) -> 26785 | E11: =SUMIFS(労務費!$G$5:$G$40,労務費!$A$5:$A$40,$A11,労務費!$B$5:$B$40,$B11) -> 94640 | F11: =SUMIFS(労務費!$H$5:$H$40,労務費!$A$5:$A$40,$A11,労務費!$B$5:$B$40,$B11) -> 77900 | G11: =SUMIFS(製造間接費!$H$5:$H$40,製造間接費!$A$5:$A$40,$A11,製造間接費!$B$5:$B$40,$B11) -> 125000 | H11: =SUMIFS(製造間接費!$I$5:$I$40,製造間接費!$A$5:$A$40,$A11,製造間接費!$B$5:$B$40,$B11) -> 364000 | I11: =SUM(C11:H11) -> 670433 | J11: =SUMIFS(材料費!$J$5:$J$40,材料費!$A$5:$A$40,A11,材料費!$B$5:$B$40,B11)+SUMIFS(労務費!$J$5:$J$40,労務費!$A$5:$A$40,A11,労務費!$B$5:$B$40,B11)+SUMIFS(製造間接費!$K$5:$K$40,製造間接費!$A$5:$A$40,A11,製造間接費!$B$5:$B$40,B11) -> 0
A12: 2026-03 | B12: 関西工場 | C12: =SUMIFS(材料費!$G$5:$G$40,材料費!$A$5:$A$40,$A12,材料費!$B$5:$B$40,$B12) -> 12408 | D12: =SUMIFS(材料費!$H$5:$H$40,材料費!$A$5:$A$40,$A12,材料費!$B$5:$B$40,$B12) -> -18270 | E12: =SUMIFS(労務費!$G$5:$G$40,労務費!$A$5:$A$40,$A12,労務費!$B$5:$B$40,$B12) -> 100800 | F12: =SUMIFS(労務費!$H$5:$H$40,労務費!$A$5:$A$40,$A12,労務費!$B$5:$B$40,$B12) -> 26040 | G12: =SUMIFS(製造間接費!$H$5:$H$40,製造間接費!$A$5:$A$40,$A12,製造間接費!$B$5:$B$40,$B12) -> -95000 | H12: =SUMIFS(製造間接費!$I$5:$I$40,製造間接費!$A$5:$A$40,$A12,製造間接費!$B$5:$B$40,$B12) -> 358620.69 | I12: =SUM(C12:H12) -> 384598.69 | J12: =SUMIFS(材料費!$J$5:$J$40,材料費!$A$5:$A$40,A12,材料費!$B$5:$B$40,B12)+SUMIFS(労務費!$J$5:$J$40,労務費!$A$5:$A$40,A12,労務費!$B$5:$B$40,B12)+SUMIFS(製造間接費!$K$5:$K$40,製造間接費!$A$5:$A$40,A12,製造間接費!$B$5:$B$40,B12) -> 0
A13: 2026-03 | B13: 九州工場 | C13: =SUMIFS(材料費!$G$5:$G$40,材料費!$A$5:$A$40,$A13,材料費!$B$5:$B$40,$B13) -> 13968 | D13: =SUMIFS(材料費!$H$5:$H$40,材料費!$A$5:$A$40,$A13,材料費!$B$5:$B$40,$B13) -> -19495 | E13: =SUMIFS(労務費!$G$5:$G$40,労務費!$A$5:$A$40,$A13,労務費!$B$5:$B$40,$B13) -> -47400 | F13: =SUMIFS(労務費!$H$5:$H$40,労務費!$A$5:$A$40,$A13,労務費!$B$5:$B$40,$B13) -> 27480 | G13: =SUMIFS(製造間接費!$H$5:$H$40,製造間接費!$A$5:$A$40,$A13,製造間接費!$B$5:$B$40,$B13) -> 125000 | H13: =SUMIFS(製造間接費!$I$5:$I$40,製造間接費!$A$5:$A$40,$A13,製造間接費!$B$5:$B$40,$B13) -> 218181.82 | I13: =SUM(C13:H13) -> 317734.82 | J13: =SUMIFS(材料費!$J$5:$J$40,材料費!$A$5:$A$40,A13,材料費!$B$5:$B$40,B13)+SUMIFS(労務費!$J$5:$J$40,労務費!$A$5:$A$40,A13,労務費!$B$5:$B$40,B13)+SUMIFS(製造間接費!$K$5:$K$40,製造間接費!$A$5:$A$40,A13,製造間接費!$B$5:$B$40,B13) -> 0
A14: 2026-04 | B14: 東京工場 | C14: =SUMIFS(材料費!$G$5:$G$40,材料費!$A$5:$A$40,$A14,材料費!$B$5:$B$40,$B14) -> -7259 | D14: =SUMIFS(材料費!$H$5:$H$40,材料費!$A$5:$A$40,$A14,材料費!$B$5:$B$40,$B14) -> 40375 | E14: =SUMIFS(労務費!$G$5:$G$40,労務費!$A$5:$A$40,$A14,労務費!$B$5:$B$40,$B14) -> 55760 | F14: =SUMIFS(労務費!$H$5:$H$40,労務費!$A$5:$A$40,$A14,労務費!$B$5:$B$40,$B14) -> 24600 | G14: =SUMIFS(製造間接費!$H$5:$H$40,製造間接費!$A$5:$A$40,$A14,製造間接費!$B$5:$B$40,$B14) -> 235000 | H14: =SUMIFS(製造間接費!$I$5:$I$40,製造間接費!$A$5:$A$40,$A14,製造間接費!$B$5:$B$40,$B14) -> -28000 | I14: =SUM(C14:H14) -> 320476 | J14: =SUMIFS(材料費!$J$5:$J$40,材料費!$A$5:$A$40,A14,材料費!$B$5:$B$40,B14)+SUMIFS(労務費!$J$5:$J$40,労務費!$A$5:$A$40,A14,労務費!$B$5:$B$40,B14)+SUMIFS(製造間接費!$K$5:$K$40,製造間接費!$A$5:$A$40,A14,製造間接費!$B$5:$B$40,B14) -> 0
A15: 2026-04 | B15: 関西工場 | C15: =SUMIFS(材料費!$G$5:$G$40,材料費!$A$5:$A$40,$A15,材料費!$B$5:$B$40,$B15) -> -7714 | D15: =SUMIFS(材料費!$H$5:$H$40,材料費!$A$5:$A$40,$A15,材料費!$B$5:$B$40,$B15) -> 10200 | E15: =SUMIFS(労務費!$G$5:$G$40,労務費!$A$5:$A$40,$A15,労務費!$B$5:$B$40,$B15) -> -43560 | F15: =SUMIFS(労務費!$H$5:$H$40,労務費!$A$5:$A$40,$A15,労務費!$B$5:$B$40,$B15) -> 26040 | G15: =SUMIFS(製造間接費!$H$5:$H$40,製造間接費!$A$5:$A$40,$A15,製造間接費!$B$5:$B$40,$B15) -> 235000 | H15: =SUMIFS(製造間接費!$I$5:$I$40,製造間接費!$A$5:$A$40,$A15,製造間接費!$B$5:$B$40,$B15) -> 358620.69 | I15: =SUM(C15:H15) -> 578586.69 | J15: =SUMIFS(材料費!$J$5:$J$40,材料費!$A$5:$A$40,A15,材料費!$B$5:$B$40,B15)+SUMIFS(労務費!$J$5:$J$40,労務費!$A$5:$A$40,A15,労務費!$B$5:$B$40,B15)+SUMIFS(製造間接費!$K$5:$K$40,製造間接費!$A$5:$A$40,A15,製造間接費!$B$5:$B$40,B15) -> 0
A16: 2026-04 | B16: 九州工場 | C16: =SUMIFS(材料費!$G$5:$G$40,材料費!$A$5:$A$40,$A16,材料費!$B$5:$B$40,$B16) -> 22363 | D16: =SUMIFS(材料費!$H$5:$H$40,材料費!$A$5:$A$40,$A16,材料費!$B$5:$B$40,$B16) -> -19075 | E16: =SUMIFS(労務費!$G$5:$G$40,労務費!$A$5:$A$40,$A16,労務費!$B$5:$B$40,$B16) -> -45540 | F16: =SUMIFS(労務費!$H$5:$H$40,労務費!$A$5:$A$40,$A16,労務費!$B$5:$B$40,$B16) -> -57250 | G16: =SUMIFS(製造間接費!$H$5:$H$40,製造間接費!$A$5:$A$40,$A16,製造間接費!$B$5:$B$40,$B16) -> -95000 | H16: =SUMIFS(製造間接費!$I$5:$I$40,製造間接費!$A$5:$A$40,$A16,製造間接費!$B$5:$B$40,$B16) -> 218181.82 | I16: =SUM(C16:H16) -> 23679.818 | J16: =SUMIFS(材料費!$J$5:$J$40,材料費!$A$5:$A$40,A16,材料費!$B$5:$B$40,B16)+SUMIFS(労務費!$J$5:$J$40,労務費!$A$5:$A$40,A16,労務費!$B$5:$B$40,B16)+SUMIFS(製造間接費!$K$5:$K$40,製造間接費!$A$5:$A$40,A16,製造間接費!$B$5:$B$40,B16) -> 0
... A40: 2026-12 | B40: 九州工場 | C40: =SUMIFS(材料費!$G$5:$G$40,材料費!$A$5:$A$40,$A40,材料費!$B$5:$B$40,$B40) -> 16812 | D40: =SUMIFS(材料費!$H$5:$H$40,材料費!$A$5:$A$40,$A40,材料費!$B$5:$B$40,$B40) -> 46325 | E40: =SUMIFS(労務費!$G$5:$G$40,労務費!$A$5:$A$40,$A40,労務費!$B$5:$B$40,$B40) -> 118160 | F40: =SUMIFS(労務費!$H$5:$H$40,労務費!$A$5:$A$40,$A40,労務費!$B$5:$B$40,$B40) -> 27480 | G40: =SUMIFS(製造間接費!$H$5:$H$40,製造間接費!$A$5:$A$40,$A40,製造間接費!$B$5:$B$40,$B40) -> -95000 | H40: =SUMIFS(製造間接費!$I$5:$I$40,製造間接費!$A$5:$A$40,$A40,製造間接費!$B$5:$B$40,$B40) -> 218181.82 | I40: =SUM(C40:H40) -> 331958.82 | J40: =SUMIFS(材料費!$J$5:$J$40,材料費!$A$5:$A$40,A40,材料費!$B$5:$B$40,B40)+SUMIFS(労務費!$J$5:$J$40,労務費!$A$5:$A$40,A40,労務費!$B$5:$B$40,B40)+SUMIFS(製造間接費!$K$5:$K$40,製造間接費!$A$5:$A$40,A40,製造間接費!$B$5:$B$40,B40) -> 0

Sheet 材料費
A1: 直接材料費｜価格差異・数量差異
A4: 年月 | B4: 工場 | C4: 標準単価(円/kg) | D4: 実際単価(円/kg) | E4: 標準使用量(kg) | F4: 実際使用量(kg) | G4: 価格差異(円) | H4: 数量差異(円) | I4: 差異合計(円) | J4: 検算差額(円)
A5: 2026-01 | B5: 東京工場 | C5: 479 | D5: 461 | E5: 913 | F5: 933 | G5: =(D5-C5)*F5 -> -16794 | H5: =(F5-E5)*C5 -> 9580 | I5: =SUM(G5:H5) -> -7214 | J5: =D5*F5-C5*E5-I5 -> 0
A6: 2026-01 | B6: 関西工場 | C6: 514 | D6: 507 | E6: 1043 | F6: 1063 | G6: =(D6-C6)*F6 -> -7441 | H6: =(F6-E6)*C6 -> 10280 | I6: =SUM(G6:H6) -> 2839 | J6: =D6*F6-C6*E6-I6 -> 0
A7: 2026-01 | B7: 九州工場 | C7: 549 | D7: 542 | E7: 1173 | F7: 1193 | G7: =(D7-C7)*F7 -> -8351 | H7: =(F7-E7)*C7 -> 10980 | I7: =SUM(G7:H7) -> 2629 | J7: =D7*F7-C7*E7-I7 -> 0
A8: 2026-02 | B8: 東京工場 | C8: 483 | D8: 476 | E8: 926 | F8: 946 | G8: =(D8-C8)*F8 -> -6622 | H8: =(F8-E8)*C8 -> 9660 | I8: =SUM(G8:H8) -> 3038 | J8: =D8*F8-C8*E8-I8 -> 0
A9: 2026-02 | B9: 関西工場 | C9: 518 | D9: 500 | E9: 1056 | F9: 1141 | G9: =(D9-C9)*F9 -> -20538 | H9: =(F9-E9)*C9 -> 44030 | I9: =SUM(G9:H9) -> 23492 | J9: =D9*F9-C9*E9-I9 -> 0
A10: 2026-02 | B10: 九州工場 | C10: 553 | D10: 565 | E10: 1186 | F10: 1206 | G10: =(D10-C10)*F10 -> 14472 | H10: =(F10-E10)*C10 -> 11060 | I10: =SUM(G10:H10) -> 25532 | J10: =D10*F10-C10*E10-I10 -> 0
A11: 2026-03 | B11: 東京工場 | C11: 487 | D11: 469 | E11: 939 | F11: 994 | G11: =(D11-C11)*F11 -> -17892 | H11: =(F11-E11)*C11 -> 26785 | I11: =SUM(G11:H11) -> 8893 | J11: =D11*F11-C11*E11-I11 -> 0
A12: 2026-03 | B12: 関西工場 | C12: 522 | D12: 534 | E12: 1069 | F12: 1034 | G12: =(D12-C12)*F12 -> 12408 | H12: =(F12-E12)*C12 -> -18270 | I12: =SUM(G12:H12) -> -5862 | J12: =D12*F12-C12*E12-I12 -> 0
A13: 2026-03 | B13: 九州工場 | C13: 557 | D13: 569 | E13: 1199 | F13: 1164 | G13: =(D13-C13)*F13 -> 13968 | H13: =(F13-E13)*C13 -> -19495 | I13: =SUM(G13:H13) -> -5527 | J13: =D13*F13-C13*E13-I13 -> 0
A14: 2026-04 | B14: 東京工場 | C14: 475 | D14: 468 | E14: 952 | F14: 1037 | G14: =(D14-C14)*F14 -> -7259 | H14: =(F14-E14)*C14 -> 40375 | I14: =SUM(G14:H14) -> 33116 | J14: =D14*F14-C14*E14-I14 -> 0
A15: 2026-04 | B15: 関西工場 | C15: 510 | D15: 503 | E15: 1082 | F15: 1102 | G15: =(D15-C15)*F15 -> -7714 | H15: =(F15-E15)*C15 -> 10200 | I15: =SUM(G15:H15) -> 2486 | J15: =D15*F15-C15*E15-I15 -> 0
A16: 2026-04 | B16: 九州工場 | C16: 545 | D16: 564 | E16: 1212 | F16: 1177 | G16: =(D16-C16)*F16 -> 22363 | H16: =(F16-E16)*C16 -> -19075 | I16: =SUM(G16:H16) -> 3288 | J16: =D16*F16-C16*E16-I16 -> 0
... A40: 2026-12 | B40: 九州工場 | C40: 545 | D40: 557 | E40: 1316 | F40: 1401 | G40: =(D40-C40)*F40 -> 16812 | H40: =(F40-E40)*C40 -> 46325 | I40: =SUM(G40:H40) -> 63137 | J40: =D40*F40-C40*E40-I40 -> 0

Sheet 労務費
A1: 直接労務費｜賃率差異・時間差異
A4: 年月 | B4: 工場 | C4: 標準賃率(円/h) | D4: 実際賃率(円/h) | E4: 標準時間(h) | F4: 実際時間(h) | G4: 賃率差異(円) | H4: 時間差異(円) | I4: 差異合計(円) | J4: 検算差額(円)
A5: 2026-01 | B5: 東京工場 | C5: 2050 | D5: 2190 | E5: 626 | F5: 664 | G5: =(D5-C5)*F5 -> 92960 | H5: =(F5-E5)*C5 -> 77900 | I5: =SUM(G5:H5) -> 170860 | J5: =D5*F5-C5*E5-I5 -> 0
A6: 2026-01 | B6: 関西工場 | C6: 2170 | D6: 2310 | E6: 696 | F6: 708 | G6: =(D6-C6)*F6 -> 99120 | H6: =(F6-E6)*C6 -> 26040 | I6: =SUM(G6:H6) -> 125160 | J6: =D6*F6-C6*E6-I6 -> 0
A7: 2026-01 | B7: 九州工場 | C7: 2290 | D7: 2375 | E7: 766 | F7: 741 | G7: =(D7-C7)*F7 -> 62985 | H7: =(F7-E7)*C7 -> -57250 | I7: =SUM(G7:H7) -> 5735 | J7: =D7*F7-C7*E7-I7 -> 0
A8: 2026-02 | B8: 東京工場 | C8: 2050 | D8: 1990 | E8: 632 | F8: 644 | G8: =(D8-C8)*F8 -> -38640 | H8: =(F8-E8)*C8 -> 24600 | I8: =SUM(G8:H8) -> -14040 | J8: =D8*F8-C8*E8-I8 -> 0
A9: 2026-02 | B9: 関西工場 | C9: 2170 | D9: 2255 | E9: 702 | F9: 740 | G9: =(D9-C9)*F9 -> 62900 | H9: =(F9-E9)*C9 -> 82460 | I9: =SUM(G9:H9) -> 145360 | J9: =D9*F9-C9*E9-I9 -> 0
A10: 2026-02 | B10: 九州工場 | C10: 2290 | D10: 2430 | E10: 772 | F10: 784 | G10: =(D10-C10)*F10 -> 109760 | H10: =(F10-E10)*C10 -> 27480 | I10: =SUM(G10:H10) -> 137240 | J10: =D10*F10-C10*E10-I10 -> 0
A11: 2026-03 | B11: 東京工場 | C11: 2050 | D11: 2190 | E11: 638 | F11: 676 | G11: =(D11-C11)*F11 -> 94640 | H11: =(F11-E11)*C11 -> 77900 | I11: =SUM(G11:H11) -> 172540 | J11: =D11*F11-C11*E11-I11 -> 0
A12: 2026-03 | B12: 関西工場 | C12: 2170 | D12: 2310 | E12: 708 | F12: 720 | G12: =(D12-C12)*F12 -> 100800 | H12: =(F12-E12)*C12 -> 26040 | I12: =SUM(G12:H12) -> 126840 | J12: =D12*F12-C12*E12-I12 -> 0
A13: 2026-03 | B13: 九州工場 | C13: 2290 | D13: 2230 | E13: 778 | F13: 790 | G13: =(D13-C13)*F13 -> -47400 | H13: =(F13-E13)*C13 -> 27480 | I13: =SUM(G13:H13) -> -19920 | J13: =D13*F13-C13*E13-I13 -> 0
A14: 2026-04 | B14: 東京工場 | C14: 2050 | D14: 2135 | E14: 644 | F14: 656 | G14: =(D14-C14)*F14 -> 55760 | H14: =(F14-E14)*C14 -> 24600 | I14: =SUM(G14:H14) -> 80360 | J14: =D14*F14-C14*E14-I14 -> 0
A15: 2026-04 | B15: 関西工場 | C15: 2170 | D15: 2110 | E15: 714 | F15: 726 | G15: =(D15-C15)*F15 -> -43560 | H15: =(F15-E15)*C15 -> 26040 | I15: =SUM(G15:H15) -> -17520 | J15: =D15*F15-C15*E15-I15 -> 0
A16: 2026-04 | B16: 九州工場 | C16: 2290 | D16: 2230 | E16: 784 | F16: 759 | G16: =(D16-C16)*F16 -> -45540 | H16: =(F16-E16)*C16 -> -57250 | I16: =SUM(G16:H16) -> -102790 | J16: =D16*F16-C16*E16-I16 -> 0
... A40: 2026-12 | B40: 九州工場 | C40: 2290 | D40: 2430 | E40: 832 | F40: 844 | G40: =(D40-C40)*F40 -> 118160 | H40: =(F40-E40)*C40 -> 27480 | I40: =SUM(G40:H40) -> 145640 | J40: =D40*F40-C40*E40-I40 -> 0

Sheet 製造間接費
A1: 固定製造間接費｜予算差異・操業度差異
A4: 年月 | B4: 工場 | C4: 固定費予算(円) | D4: 実際発生額(円) | E4: 基準操業度(h) | F4: 標準時間(h) | G4: 予定配賦率(円/h) | H4: 予算差異(円) | I4: 操業度差異(円) | J4: 差異合計(円) | K4: 検算差額(円)
A5: 2026-01 | B5: 東京工場 | C5: 2800000 | D5: 3035000 | E5: 1000 | F5: 870 | G5: =IFERROR(C5/E5,0) -> 2800 | H5: =D5-C5 -> 235000 | I5: =C5-G5*F5 -> 364000 | J5: =SUM(H5:I5) -> 599000 | K5: =D5-G5*F5-J5 -> 0
A6: 2026-01 | B6: 関西工場 | C6: 3200000 | D6: 3325000 | E6: 1160 | F6: 1030 | G6: =IFERROR(C6/E6,0) -> 2758.6207 | H6: =D6-C6 -> 125000 | I6: =C6-G6*F6 -> 358620.69 | J6: =SUM(H6:I6) -> 483620.69 | K6: =D6-G6*F6-J6 -> 0
A7: 2026-01 | B7: 九州工場 | C7: 3600000 | D7: 3505000 | E7: 1320 | F7: 1330 | G7: =IFERROR(C7/E7,0) -> 2727.2727 | H7: =D7-C7 -> -95000 | I7: =C7-G7*F7 -> -27272.727 | J7: =SUM(H7:I7) -> -122272.73 | K7: =D7-G7*F7-J7 -> 0
A8: 2026-02 | B8: 東京工場 | C8: 2800000 | D8: 2705000 | E8: 1000 | F8: 870 | G8: =IFERROR(C8/E8,0) -> 2800 | H8: =D8-C8 -> -95000 | I8: =C8-G8*F8 -> 364000 | J8: =SUM(H8:I8) -> 269000 | K8: =D8-G8*F8-J8 -> 0
A9: 2026-02 | B9: 関西工場 | C9: 3200000 | D9: 3105000 | E9: 1160 | F9: 1030 | G9: =IFERROR(C9/E9,0) -> 2758.6207 | H9: =D9-C9 -> -95000 | I9: =C9-G9*F9 -> 358620.69 | J9: =SUM(H9:I9) -> 263620.69 | K9: =D9-G9*F9-J9 -> 0
A10: 2026-02 | B10: 九州工場 | C10: 3600000 | D10: 3505000 | E10: 1320 | F10: 1190 | G10: =IFERROR(C10/E10,0) -> 2727.2727 | H10: =D10-C10 -> -95000 | I10: =C10-G10*F10 -> 354545.45 | J10: =SUM(H10:I10) -> 259545.45 | K10: =D10-G10*F10-J10 -> 0
A11: 2026-03 | B11: 東京工場 | C11: 2800000 | D11: 2925000 | E11: 1000 | F11: 870 | G11: =IFERROR(C11/E11,0) -> 2800 | H11: =D11-C11 -> 125000 | I11: =C11-G11*F11 -> 364000 | J11: =SUM(H11:I11) -> 489000 | K11: =D11-G11*F11-J11 -> 0
A12: 2026-03 | B12: 関西工場 | C12: 3200000 | D12: 3105000 | E12: 1160 | F12: 1030 | G12: =IFERROR(C12/E12,0) -> 2758.6207 | H12: =D12-C12 -> -95000 | I12: =C12-G12*F12 -> 358620.69 | J12: =SUM(H12:I12) -> 263620.69 | K12: =D12-G12*F12-J12 -> 0
A13: 2026-03 | B13: 九州工場 | C13: 3600000 | D13: 3725000 | E13: 1320 | F13: 1240 | G13: =IFERROR(C13/E13,0) -> 2727.2727 | H13: =D13-C13 -> 125000 | I13: =C13-G13*F13 -> 218181.82 | J13: =SUM(H13:I13) -> 343181.82 | K13: =D13-G13*F13-J13 -> 0
A14: 2026-04 | B14: 東京工場 | C14: 2800000 | D14: 3035000 | E14: 1000 | F14: 1010 | G14: =IFERROR(C14/E14,0) -> 2800 | H14: =D14-C14 -> 235000 | I14: =C14-G14*F14 -> -28000 | J14: =SUM(H14:I14) -> 207000 | K14: =D14-G14*F14-J14 -> 0
A15: 2026-04 | B15: 関西工場 | C15: 3200000 | D15: 3435000 | E15: 1160 | F15: 1030 | G15: =IFERROR(C15/E15,0) -> 2758.6207 | H15: =D15-C15 -> 235000 | I15: =C15-G15*F15 -> 358620.69 | J15: =SUM(H15:I15) -> 593620.69 | K15: =D15-G15*F15-J15 -> 0
A16: 2026-04 | B16: 九州工場 | C16: 3600000 | D16: 3505000 | E16: 1320 | F16: 1240 | G16: =IFERROR(C16/E16,0) -> 2727.2727 | H16: =D16-C16 -> -95000 | I16: =C16-G16*F16 -> 218181.82 | J16: =SUM(H16:I16) -> 123181.82 | K16: =D16-G16*F16-J16 -> 0
... A40: 2026-12 | B40: 九州工場 | C40: 3600000 | D40: 3505000 | E40: 1320 | F40: 1240 | G40: =IFERROR(C40/E40,0) -> 2727.2727 | H40: =D40-C40 -> -95000 | I40: =C40-G40*F40 -> 218181.82 | J40: =SUM(H40:I40) -> 123181.82 | K40: =D40-G40*F40-J40 -> 0

Sheet 設定
A1: 対象工場 | B1: 対象月
A2: 全工場 | B2: 2026-01
A3: 東京工場 | B3: 2026-02
A4: 関西工場 | B4: 2026-03
A5: 九州工場 | B5: 2026-04
B6: 2026-05
B7: 2026-06
B8: 2026-07
B9: 2026-08
B10: 2026-09
B11: 2026-10
B12: 2026-11
B13: 2026-12
